BEGIN:VCALENDAR
VERSION:2.0
PRODID:-//STRAWANZERIN - ECPv4.9.5//NONSGML v1.0//EN
CALSCALE:GREGORIAN
METHOD:PUBLISH
X-WR-CALNAME:STRAWANZERIN
X-ORIGINAL-URL:https://www.strawanzerin.at
X-WR-CALDESC:Veranstaltungen im STRAWANZERIN
BEGIN:VTIMEZONE
TZID:"Europe/Paris"
BEGIN:DAYLIGHT
TZOFFSETFROM:+0100
TZOFFSETTO:+0200
TZNAME:CEST
DTSTART:20150329T010000
END:DAYLIGHT
BEGIN:STANDARD
TZOFFSETFROM:+0200
TZOFFSETTO:+0100
TZNAME:CET
DTSTART:20151025T010000
END:STANDARD
END:VTIMEZONE
BEGIN:VEVENT
DTSTART;TZID="Europe/Paris":20150605T170000
DTEND;TZID="Europe/Paris":20150607T150000
DTSTAMP:20260421T215339
CREATED:20150503T095405Z
LAST-MODIFIED:20150602T183000Z
UID:14377-1433523600-1433689200@www.strawanzerin.at
SUMMARY:Utopien.Träume.Visionen
DESCRIPTION:Ästhetische Positionen im Horizont des Wirklichen\nWolfgang BÄUML – Walter CSUVALA – Evelyn DOLL – Beate KREMPE\nAusstellung vom 5. – 7. Juni 2015\nFreitag 5. Juni Besichtigung ab 17 Uhr\n19 Uhr Vernissage\, Live-Musik\nÖFFNUNGSZEITEN:\nSamstag\, 6. Juni 14-18 Uhr\nSonntag\, 7. Juni 12-15 Uhr\nEintritt frei\, Spenden für das Buffet erbeten! \n
URL:https://www.strawanzerin.at/termin/utopien-traeume-visionen/
LOCATION:Zuckerlfabrik\, Hägelingasse 7 (Garteneingang)\, Wien\, Wien\, 1140\, Österreich
CATEGORIES:Ausstellung,Deutsch,freie Spende,Kunst/Kultur,Wien
ATTACH;FMTTYPE=image/jpeg:https://www.strawanzerin.at/wp-content/uploads/2015/05/Web-Einladung-Zuckerlfabrik-zweiseitig-1.jpg
ORGANIZER;CN="Ursula%20Pfeiffer%20verein%20%3A%3Akunst-projekte%3A%3A%20der%20%5Bgalerie%5Dstudio38%20zvr%20123612155":MAILTO:office@galeriestudio38.at
GEO:48.2210429;16.2277052
X-APPLE-STRUCTURED-LOCATION;VALUE=URI;X-ADDRESS=Zuckerlfabrik Hägelingasse 7 (Garteneingang) Wien Wien 1140 Österreich;X-APPLE-RADIUS=500;X-TITLE=Hägelingasse 7 (Garteneingang):geo:16.2277052,48.2210429
END:VEVENT
END:VCALENDAR