BEGIN:VCALENDAR
VERSION:2.0
PRODID:-//STRAWANZERIN - ECPv4.9.5//NONSGML v1.0//EN
CALSCALE:GREGORIAN
METHOD:PUBLISH
X-WR-CALNAME:STRAWANZERIN
X-ORIGINAL-URL:https://www.strawanzerin.at
X-WR-CALDESC:Veranstaltungen im STRAWANZERIN
BEGIN:VTIMEZONE
TZID:"Europe/Vienna"
BEGIN:DAYLIGHT
TZOFFSETFROM:+0100
TZOFFSETTO:+0200
TZNAME:CEST
DTSTART:20180325T010000
END:DAYLIGHT
BEGIN:STANDARD
TZOFFSETFROM:+0200
TZOFFSETTO:+0100
TZNAME:CET
DTSTART:20181028T010000
END:STANDARD
END:VTIMEZONE
BEGIN:VEVENT
DTSTART;TZID="Europe/Vienna":20180216T190000
DTEND;TZID="Europe/Vienna":20180216T220000
DTSTAMP:20260420T190914
CREATED:20180206T212322Z
LAST-MODIFIED:20180207T105111Z
UID:52295-1518807600-1518818400@www.strawanzerin.at
SUMMARY:Valentinstagskonzert
DESCRIPTION:Valentinstag im Olé \nWir lieben das Theater Olé! \nWir lieben die Liebe! \nIhr auch? \nEs ist Valentinstag und wir singen Liebeslieder. \nWir beweisen unserem liebsten Lieblingstheater und \nunserem allerliebsten Publikum unsere Liebe. \nLasst uns gemeinsam der Liebe frönen! \nVon und mit: Pete Belcher\, Marie Miklau\, Marion Scholz \nund \nMartin Beck\, Sascha Cetl\, Melanie Gemeiner\, Tanja Joksimovic\, \nAndreas Moldaschl\, Jutta Pichler\, Raino Rapottnig\, Edouard Raix\, \nJasna Sandic\, Hubertus Zorell  \n
URL:https://www.strawanzerin.at/termin/valentinstagskonzert-2/
LOCATION:Theater Olé  – Clown- \, Komik- und Varietétheater\, Barmherzigengasse 18\, Wien\, Wien\, 1030\, Österreich
CATEGORIES:ab 7,Deutsch,Kunst/Kultur,Musik,Wien
ATTACH;FMTTYPE=image/jpeg:https://www.strawanzerin.at/wp-content/uploads/2018/02/valentinskonzert-682x1024.jpg
ORGANIZER;CN="Theater%20Ole-Clown-%20Komik%20-%20und%20Variet%C3%A9theater%20mitten%20in%20Wien":MAILTO:theater-ole@gmx.at
GEO:48.1962173;16.3940663
X-APPLE-STRUCTURED-LOCATION;VALUE=URI;X-ADDRESS=Theater Olé  – Clown-  Komik- und Varietétheater Barmherzigengasse 18 Wien Wien 1030 Österreich;X-APPLE-RADIUS=500;X-TITLE=Barmherzigengasse 18:geo:16.3940663,48.1962173
END:VEVENT
END:VCALENDAR