BEGIN:VCALENDAR
VERSION:2.0
PRODID:-//STRAWANZERIN - ECPv4.9.5//NONSGML v1.0//EN
CALSCALE:GREGORIAN
METHOD:PUBLISH
X-WR-CALNAME:STRAWANZERIN
X-ORIGINAL-URL:https://www.strawanzerin.at
X-WR-CALDESC:Veranstaltungen im STRAWANZERIN
BEGIN:VTIMEZONE
TZID:"Europe/Vienna"
BEGIN:DAYLIGHT
TZOFFSETFROM:+0100
TZOFFSETTO:+0200
TZNAME:CEST
DTSTART:20230326T010000
END:DAYLIGHT
BEGIN:STANDARD
TZOFFSETFROM:+0200
TZOFFSETTO:+0100
TZNAME:CET
DTSTART:20231029T010000
END:STANDARD
END:VTIMEZONE
BEGIN:VEVENT
DTSTART;TZID="Europe/Vienna":20230225T100000
DTEND;TZID="Europe/Vienna":20230226T180000
DTSTAMP:20260422T073307
CREATED:20230119T153058Z
LAST-MODIFIED:20230125T113923Z
UID:88632-1677319200-1677434400@www.strawanzerin.at
SUMMARY:Veggie Planet Salzburg 2023
DESCRIPTION:Willkommen auf unserer beliebten Messe für den plant-based Lifestyle – am 25.+26.02.2023 in Salzburg! \nBeim gemeinsamen Flanieren durch die Gänge entdeckt ihr die neuesten Trends: köstliche und nachhaltige Snacks\, Süßes wie Herzhaftes\, Street Food und Getränke\, Naturkosmetik und faire Kleidung. Bei den Kochshows könnt ihr euch Inspiration von Profis holen und hochkarätige Vortragende informieren über verschiedene Aspekte der veganen Lebensweise. Ein Messe-Event\, das vegane Herzen höher schlagen lässt!  \nWir freuen uns auf euch! \n
URL:https://www.strawanzerin.at/termin/veggie-planet-salzburg-2023/
LOCATION:Salzburg Congress\, Auerspergstraße 6\, Salzburg\, Salzburg\, 5020\, Österreich
CATEGORIES:Ausstellung,Essen/Vokü,Salzburg,Tierschutz/Tierrechte,Vortrag/Symposium
ATTACH;FMTTYPE=image/jpeg:https://www.strawanzerin.at/wp-content/uploads/2023/01/veggie_planet_2023_salzburg_fb_web.jpg
ORGANIZER;CN="Vegane%20Gesellschaft%20%C3%96sterreich":MAILTO:info@vegan.at
END:VEVENT
END:VCALENDAR