BEGIN:VCALENDAR
VERSION:2.0
PRODID:-//STRAWANZERIN - ECPv4.9.5//NONSGML v1.0//EN
CALSCALE:GREGORIAN
METHOD:PUBLISH
X-WR-CALNAME:STRAWANZERIN
X-ORIGINAL-URL:https://www.strawanzerin.at
X-WR-CALDESC:Veranstaltungen im STRAWANZERIN
BEGIN:VTIMEZONE
TZID:"Europe/Vienna"
BEGIN:DAYLIGHT
TZOFFSETFROM:+0100
TZOFFSETTO:+0200
TZNAME:CEST
DTSTART:20230326T010000
END:DAYLIGHT
BEGIN:STANDARD
TZOFFSETFROM:+0200
TZOFFSETTO:+0100
TZNAME:CET
DTSTART:20231029T010000
END:STANDARD
END:VTIMEZONE
BEGIN:VEVENT
DTSTART;TZID="Europe/Vienna":20230112T193000
DTEND;TZID="Europe/Vienna":20230112T213000
DTSTAMP:20260421T012349
CREATED:20230113T112440Z
LAST-MODIFIED:20230113T112440Z
UID:88160-1673551800-1673559000@www.strawanzerin.at
SUMMARY:»Venus im Pelz« im Theater Spielraum: Wiederaufnahme von 12. bis 28. Jänner 2023 wegen großen Erfolges
DESCRIPTION:Ein junger Regisseur sucht verzweifelt eine Hauptdarstellerin für die Dramatisierung der über 150 Jahre alten Novelle »Venus im Pelz« von Leopold von Sacher-Masoch. Als letzte Kandidatin taucht die geheimnisvolle Wanda auf…\nIn dem von Gerhard Werdeker inszenierten Stück um Fiktion und Realität\, Macht und Ohnmacht\, Geschlechterrollen und Obsessionen liefern sich Selina Ströbele und Christian Kohlhofer ein bühnenreifes Psychoduell. \n»In der Regie Gerhard Werdekers machen sich Selina Ströbele und Christian Kohlhofer einen boulevardesken Jux aus dem intimen Zwei-Personen-Drama.« (FALTER) \nVorstellungen:\n12. bis 28. Jänner 2023\, jeweils Donnerstag\, Freitag und Samstag um 19.30 Uhr \nKarten:\nTel.: 01 713 04 60 \nBild: Selina Ströbele und Christian Kohlhofer in »Venus im Pelz«\, Foto/© Barbara Pálffy \n
URL:https://www.strawanzerin.at/termin/venus-im-pelz-im-theater-spielraum-wiederaufnahme-von-12-bis-28-jaenner-2023-wegen-grossen-erfolges/2023-01-12/
LOCATION:Theater Spielraum\, Kaiserstraße 46\, Wien\, Wien\, 1070\, Österreich
CATEGORIES:ab 7,Kunst/Kultur,Theater/Kabarett,Wien
ATTACH;FMTTYPE=image/jpeg:https://www.strawanzerin.at/wp-content/uploads/2022/12/2021-10-11-venus-im-pelz-spielraum-297-Kopie.jpg
GEO:48.2013889;16.3406467
X-APPLE-STRUCTURED-LOCATION;VALUE=URI;X-ADDRESS=Theater Spielraum Kaiserstraße 46 Wien Wien 1070 Österreich;X-APPLE-RADIUS=500;X-TITLE=Kaiserstraße 46:geo:16.3406467,48.2013889
END:VEVENT
END:VCALENDAR