BEGIN:VCALENDAR
VERSION:2.0
PRODID:-//STRAWANZERIN - ECPv4.9.5//NONSGML v1.0//EN
CALSCALE:GREGORIAN
METHOD:PUBLISH
X-WR-CALNAME:STRAWANZERIN
X-ORIGINAL-URL:https://www.strawanzerin.at
X-WR-CALDESC:Veranstaltungen im STRAWANZERIN
BEGIN:VTIMEZONE
TZID:"Europe/Vienna"
BEGIN:DAYLIGHT
TZOFFSETFROM:+0100
TZOFFSETTO:+0200
TZNAME:CEST
DTSTART:20170326T010000
END:DAYLIGHT
BEGIN:STANDARD
TZOFFSETFROM:+0200
TZOFFSETTO:+0100
TZNAME:CET
DTSTART:20171029T010000
END:STANDARD
END:VTIMEZONE
BEGIN:VEVENT
DTSTART;TZID="Europe/Vienna":20171026T100000
DTEND;TZID="Europe/Vienna":20171026T190000
DTSTAMP:20260425T122517
CREATED:20170928T091432Z
LAST-MODIFIED:20170928T144611Z
UID:47321-1509012000-1509044400@www.strawanzerin.at
SUMMARY:Veranstaltung Tag der offenen Tür im Az W - Ganztags freier Eintritt
DESCRIPTION:Auf Einladung der Architecture Lounge des Architekturzentrum Wien gilt am Nationalfeiertag für alle Architekturinteressierten auch heuer wieder „Eintritt frei“! \n14:00–17:00\nKinderworkshop: „Terrassenhäuser aus LEGO“ \n14:00\nKuratorenführung: Lorenzo De Chiffre führt durch die Ausstellung „Das Terrassenhaus. Ein Wiener Fetisch?“ \n15:00\nAusstellungsführung durch die „a_schau“ \n
URL:https://www.strawanzerin.at/termin/veranstaltung-tag-der-offenen-tuer-im-az-w-ganztags-freier-eintritt/
LOCATION:Architekturzentrum Wien\, Museumsplatz 1\, Wien\, Wien\, 1200\, Österreich
CATEGORIES:Ausstellung
ATTACH;FMTTYPE=image/jpeg:https://www.strawanzerin.at/wp-content/uploads/2017/09/TagderoffenenTuer_2.jpg
GEO:48.2034986;16.3591175
X-APPLE-STRUCTURED-LOCATION;VALUE=URI;X-ADDRESS=Architekturzentrum Wien Museumsplatz 1 Wien Wien 1200 Österreich;X-APPLE-RADIUS=500;X-TITLE=Museumsplatz 1:geo:16.3591175,48.2034986
END:VEVENT
END:VCALENDAR