BEGIN:VCALENDAR
VERSION:2.0
PRODID:-//STRAWANZERIN - ECPv4.9.5//NONSGML v1.0//EN
CALSCALE:GREGORIAN
METHOD:PUBLISH
X-WR-CALNAME:STRAWANZERIN
X-ORIGINAL-URL:https://www.strawanzerin.at
X-WR-CALDESC:Veranstaltungen im STRAWANZERIN
BEGIN:VTIMEZONE
TZID:"Europe/Vienna"
BEGIN:DAYLIGHT
TZOFFSETFROM:+0100
TZOFFSETTO:+0200
TZNAME:CEST
DTSTART:20260329T010000
END:DAYLIGHT
BEGIN:STANDARD
TZOFFSETFROM:+0200
TZOFFSETTO:+0100
TZNAME:CET
DTSTART:20261025T010000
END:STANDARD
END:VTIMEZONE
BEGIN:VEVENT
DTSTART;TZID="Europe/Vienna":20260519T190000
DTEND;TZID="Europe/Vienna":20260519T210000
DTSTAMP:20260420T083551
CREATED:20260416T135153Z
LAST-MODIFIED:20260416T135153Z
UID:113881-1779217200-1779224400@www.strawanzerin.at
SUMMARY:Veranstaltungstipp: Poetische Lesereise & Klangräume in Wien
DESCRIPTION:Am Dienstag\, den 19. Mai 2026\, lädt die Autorin Sabina Anna zu einem besonderen Abend in das GOVINDA (1070 Wien) ein. Im Zentrum der „Station II“ ihrer Lesereise stehen die Symbole als Sprache unserer inneren Welt.\nInspiriert von C.G. Jung und begleitet von den einfühlsamen Klangräumen der Klang-Musikerin Daniela Fuchs\, entsteht ein „Resonanzraum“\, in dem poetische Texte\, Musik und Stille miteinander wirken. Sabina Anna verbindet psychologische Tiefe mit der Präsenz der Shaolin-Praxis und schafft so wertvolle Impulse für innere Wandlung und Bewusstwerdung. Ein Abend für alle\, die tiefer sehen und weiter fühlen möchten.\n•	Wann: Dienstag\, 19. Mai 2026\, 19:00 Uhr\n•	Wo: GOVINDA\, Lindengasse 2A\, 1070 Wien\n•	Beitrag: EUR 25\,–\n•	Anmeldung: Begrenzte Plätze – bitte unter 01 522 28 17 oder govinda@gmx.net anmelden. \n
URL:https://www.strawanzerin.at/termin/veranstaltungstipp-poetische-lesereise-klangraeume-in-wien/
LOCATION:1070\, Lindengasse 2a\, GOVINDA\, Lindengasse 2A\, Wien\, Wien\, 1070\, Österreich
CATEGORIES:Deutsch,Literatur,Wien
ATTACH;FMTTYPE=image/jpeg:https://www.strawanzerin.at/wp-content/uploads/2026/04/Vorderseite.jpg
END:VEVENT
END:VCALENDAR