BEGIN:VCALENDAR
VERSION:2.0
PRODID:-//STRAWANZERIN - ECPv4.9.5//NONSGML v1.0//EN
CALSCALE:GREGORIAN
METHOD:PUBLISH
X-WR-CALNAME:STRAWANZERIN
X-ORIGINAL-URL:https://www.strawanzerin.at
X-WR-CALDESC:Veranstaltungen im STRAWANZERIN
BEGIN:VTIMEZONE
TZID:"Europe/Vienna"
BEGIN:DAYLIGHT
TZOFFSETFROM:+0100
TZOFFSETTO:+0200
TZNAME:CEST
DTSTART:20240331T010000
END:DAYLIGHT
BEGIN:STANDARD
TZOFFSETFROM:+0200
TZOFFSETTO:+0100
TZNAME:CET
DTSTART:20241027T010000
END:STANDARD
END:VTIMEZONE
BEGIN:VEVENT
DTSTART;TZID="Europe/Vienna":20240310T120000
DTEND;TZID="Europe/Vienna":20240310T153000
DTSTAMP:20260419T210101
CREATED:20240220T201850Z
LAST-MODIFIED:20240220T201850Z
UID:96837-1710072000-1710084600@www.strawanzerin.at
SUMMARY:Verein kinderhände mit Pam Eden Österreichische Gebärdensprache – Kennenlernen\, Vermitteln\, Einbindung in künstlerische Praxis
DESCRIPTION:Barbara Schuster und Angelika Bolnberger vom Verein kinderhände geben einen ersten Einblick in die Österreichische Gebärdensprache (ÖGS). Sie vermitteln die visuell-gestische Kommunikation\, Hintergrundwissen zur Gehörlosengemeinschaft und ihrer Kultur\, die Möglichkeiten des Kommunikationsaufbaus und erste Worte in ÖGS. Pam Eden wird im Workshop ihre Arbeit auf der Bühne mit ÖGS beleuchten und von ihrer künstlerischen Zusammenarbeit im Performancebereich\, den Hausforderungen\, Erfolgen und Erfahrungen berichten. Pam Eden begleitet Nora Jacobs’ Performance HOW DO YOU mit einer Live-Dolmetschung in ÖGS. \n
URL:https://www.strawanzerin.at/termin/verein-kinderhaende-mit-pam-eden-oesterreichische-gebaerdensprache-kennenlernen-vermitteln-einbindung-in-kuenstlerische-praxis/
LOCATION:brut nordwest\, Nordwestbahnstraße 8-10\, Wien\, Wien\, 1200\, Österreich
ATTACH;FMTTYPE=image/jpeg:https://www.strawanzerin.at/wp-content/uploads/2024/02/web_brut-imagetanz-2024_Workshop-Oesterreichische-Gebaerdensprache_c_Anais-Horn_Fondazione-Europa.jpg
ORGANIZER;CN="brut%20Wien":MAILTO:info@brut-wien.at
END:VEVENT
END:VCALENDAR