BEGIN:VCALENDAR
VERSION:2.0
PRODID:-//STRAWANZERIN - ECPv4.9.5//NONSGML v1.0//EN
CALSCALE:GREGORIAN
METHOD:PUBLISH
X-WR-CALNAME:STRAWANZERIN
X-ORIGINAL-URL:https://www.strawanzerin.at
X-WR-CALDESC:Veranstaltungen im STRAWANZERIN
BEGIN:VTIMEZONE
TZID:"Europe/Vienna"
BEGIN:DAYLIGHT
TZOFFSETFROM:+0100
TZOFFSETTO:+0200
TZNAME:CEST
DTSTART:20170326T010000
END:DAYLIGHT
BEGIN:STANDARD
TZOFFSETFROM:+0200
TZOFFSETTO:+0100
TZNAME:CET
DTSTART:20171029T010000
END:STANDARD
END:VTIMEZONE
BEGIN:VEVENT
DTSTART;TZID="Europe/Vienna":20171125T170000
DTEND;TZID="Europe/Vienna":20171125T210000
DTSTAMP:20260421T180657
CREATED:20171103T022150Z
LAST-MODIFIED:20171106T123814Z
UID:49006-1511629200-1511643600@www.strawanzerin.at
SUMMARY:Vernissage Definitions IN Colour
DESCRIPTION:Malereien von den niederländischen KünstlerInnen Petra van Boxtel und Adrie van de Nieuwenhof\nDie aufstrebende niederländische Künstlerin Petra van Boxtel und der Galerist und Künstler Adrie van de Nieuwenhof präsentieren in dieser Ausstellung Arbeiten\, deren Inspiration aus Eindrücken in Wien entstanden sind. Jeder für sich definiert dabei mit Farben die Stadt\, die Emotion und die erlebte Geschichte neu. \nVernissage 25.11.2017 ab 18:30\nAusstellung: 25.11. bis 30.11.2017\nSo\, Di\,Mi\,Do jeweils 17:00-20:00 \nAtelier Blumentopf\nContemporary Gallery\nMartinstraße 74\n1180 Wien \nEine Veranstaltung des Vereins 4K in zusammenarbeit mit der Galerie Blumentopf. \n
URL:https://www.strawanzerin.at/termin/vernissage-definitions-in-colour/
LOCATION:ABCG – Atelier Blumentopf Contemporary Gallery\, Martinstr. 74\, Wien\, Wien\, 1180\, Österreich
CATEGORIES:Ausstellung
ATTACH;FMTTYPE=image/jpeg:https://www.strawanzerin.at/wp-content/uploads/2017/11/flyer-fb.jpg
ORGANIZER;CN="verein%204k%20-%20Kreativ%20Kultur%20Kooperation%20Kompetenz":MAILTO:galerie.guerilla@gmail.com
GEO:48.2243732;16.3421065
X-APPLE-STRUCTURED-LOCATION;VALUE=URI;X-ADDRESS=ABCG – Atelier Blumentopf Contemporary Gallery Martinstr. 74 Wien Wien 1180 Österreich;X-APPLE-RADIUS=500;X-TITLE=Martinstr. 74:geo:16.3421065,48.2243732
END:VEVENT
END:VCALENDAR