BEGIN:VCALENDAR
VERSION:2.0
PRODID:-//STRAWANZERIN - ECPv4.9.5//NONSGML v1.0//EN
CALSCALE:GREGORIAN
METHOD:PUBLISH
X-WR-CALNAME:STRAWANZERIN
X-ORIGINAL-URL:https://www.strawanzerin.at
X-WR-CALDESC:Veranstaltungen im STRAWANZERIN
BEGIN:VTIMEZONE
TZID:"Europe/Vienna"
BEGIN:DAYLIGHT
TZOFFSETFROM:+0100
TZOFFSETTO:+0200
TZNAME:CEST
DTSTART:20210328T010000
END:DAYLIGHT
BEGIN:STANDARD
TZOFFSETFROM:+0200
TZOFFSETTO:+0100
TZNAME:CET
DTSTART:20211031T010000
END:STANDARD
END:VTIMEZONE
BEGIN:VEVENT
DTSTART;TZID="Europe/Vienna":20211015T203000
DTEND;TZID="Europe/Vienna":20211015T233000
DTSTAMP:20260419T121911
CREATED:20211008T081420Z
LAST-MODIFIED:20211013T063133Z
UID:81040-1634329800-1634340600@www.strawanzerin.at
SUMMARY:Vernissage
DESCRIPTION:StundentInnen des 23. Jahrgangs der Fotoakademie Graz stellen ihre Werke aus und laden herzlich zu einem tollen Abend ein!\nFür gute Musik und Laune wird gesorgt! \n
URL:https://www.strawanzerin.at/termin/vernissage/
CATEGORIES:Ausstellung,Kunst/Kultur,Steiermark
ATTACH;FMTTYPE=image/jpeg:https://www.strawanzerin.at/wp-content/uploads/2021/10/Vernissage.jpg
END:VEVENT
END:VCALENDAR