BEGIN:VCALENDAR
VERSION:2.0
PRODID:-//STRAWANZERIN - ECPv4.9.5//NONSGML v1.0//EN
CALSCALE:GREGORIAN
METHOD:PUBLISH
X-WR-CALNAME:STRAWANZERIN
X-ORIGINAL-URL:https://www.strawanzerin.at
X-WR-CALDESC:Veranstaltungen im STRAWANZERIN
BEGIN:VTIMEZONE
TZID:"Europe/Vienna"
BEGIN:DAYLIGHT
TZOFFSETFROM:+0100
TZOFFSETTO:+0200
TZNAME:CEST
DTSTART:20240331T010000
END:DAYLIGHT
BEGIN:STANDARD
TZOFFSETFROM:+0200
TZOFFSETTO:+0100
TZNAME:CET
DTSTART:20241027T010000
END:STANDARD
END:VTIMEZONE
BEGIN:VEVENT
DTSTART;TZID="Europe/Vienna":20240404T150000
DTEND;TZID="Europe/Vienna":20240406T120000
DTSTAMP:20260422T134204
CREATED:20230929T133007Z
LAST-MODIFIED:20230929T133007Z
UID:94219-1712242800-1712404800@www.strawanzerin.at
SUMMARY:Versus Festival
DESCRIPTION:Das versus Festival ist ein Schmelztiegel an Meinungen und Treffpunkt von Unternehmer:innen und Entscheider:innen\, deren Blicke in unterschiedliche Richtungen gehen und so neue Perspektiven hervorbringen.\nInmitten einem der schönsten Skigebiete der Welt\, der Silvretta Montafon\, widmen wir uns dem Diskurs. Denn wir glauben daran\, dass Argumente immer noch schlagend sind und bleiben. Und vor allem an die Inspiration und Gedankenanstöße\, die aus einer harten wie fairen Diskussion resultieren. Ohne Populismus\, Extremismus\, Sexismus oder Rassismus.\nSeite an Seite mit Speaker:innen\, Talk-Gästen und Besucher:innen wird diskutiert\, gestritten und argumentiert – immer fair\, korrekt und auf Augenhöhe. \nDie Location: Ein ganzes Skigebiet\nZurücklehnen und berieseln lassen? Nein danke! Hier geht es neben geistiger Inspiration auch um körperliche Bewegung. Nicht umsonst findet das Festival im Silvretta Montafon – dem sportlichsten Skigebiet Österreichs – statt. Und nicht umsonst sind die Timetables so gestaltet\, dass zwischen den Talks genug Zeit da ist\, um die ein oder andere Abfahrt\, Schneeschuh-Tour oder Gipfelwanderung zu machen oder in einer der urigen Berghütten einzukehren.\nOffen für alle. Aber nicht für alles.\nWir geben dem Diskurs und der Debatte einen Raum. Aber nicht Populismus\, Extremismus\, Sexismus oder Rassismus. \n
URL:https://www.strawanzerin.at/termin/versus-festival/
LOCATION:Silvretta Montafon\, Silvrettapl. 1\, Schruns\, Vorarlberg\, 6780\, Österreich
CATEGORIES:Deutsch,Vorarlberg,Vortrag/Symposium
ATTACH;FMTTYPE=image/jpeg:https://www.strawanzerin.at/wp-content/uploads/2023/09/Versus-2-scaled.jpg
ORGANIZER;CN="w3%20Create":MAILTO:hello@femalefuturefestival.com
END:VEVENT
END:VCALENDAR