BEGIN:VCALENDAR
VERSION:2.0
PRODID:-//STRAWANZERIN - ECPv4.9.5//NONSGML v1.0//EN
CALSCALE:GREGORIAN
METHOD:PUBLISH
X-WR-CALNAME:STRAWANZERIN
X-ORIGINAL-URL:https://www.strawanzerin.at
X-WR-CALDESC:Veranstaltungen im STRAWANZERIN
BEGIN:VTIMEZONE
TZID:"Europe/Vienna"
BEGIN:DAYLIGHT
TZOFFSETFROM:+0100
TZOFFSETTO:+0200
TZNAME:CEST
DTSTART:20220327T010000
END:DAYLIGHT
BEGIN:STANDARD
TZOFFSETFROM:+0200
TZOFFSETTO:+0100
TZNAME:CET
DTSTART:20221030T010000
END:STANDARD
END:VTIMEZONE
BEGIN:VEVENT
DTSTART;TZID="Europe/Vienna":20220211T200000
DTEND;TZID="Europe/Vienna":20220211T213000
DTSTAMP:20260420T212746
CREATED:20220202T121621Z
LAST-MODIFIED:20220202T121621Z
UID:82608-1644609600-1644615000@www.strawanzerin.at
SUMMARY:Veza Fernández – Alalazo
DESCRIPTION:In ihrem Solostück Alalazo kreiert Veza Fernández einen durch Mark und Bein gehenden Tanz mit ihrer schreienden Stimme und einem magisch-elektronischen Soundtrack\, komponiert von Rana Farahani (aka Fauna). Die Performerin erforscht die überragende Kraft der weiblichen Stimme und dringt dabei zu deren äußersten Rändern vor. So entsteht eine körperliche und emotionale Klangerfahrung\, die das Publikum gänzlich einbezieht und die Dramen\, Welten und Erzählungen schreiender Körper für jede*n spürbar macht. \n
URL:https://www.strawanzerin.at/termin/veza-fernandez-alalazo/2022-02-11/
LOCATION:brut nordwest\, Nordwestbahnstraße 8-10\, Wien\, Wien\, 1200\, Österreich
CATEGORIES:Barrierefrei,Feminismus,Tanz,Wien
ORGANIZER;CN="brut%20Wien":MAILTO:info@brut-wien.at
END:VEVENT
END:VCALENDAR