BEGIN:VCALENDAR
VERSION:2.0
PRODID:-//STRAWANZERIN - ECPv4.9.5//NONSGML v1.0//EN
CALSCALE:GREGORIAN
METHOD:PUBLISH
X-WR-CALNAME:STRAWANZERIN
X-ORIGINAL-URL:https://www.strawanzerin.at
X-WR-CALDESC:Veranstaltungen im STRAWANZERIN
BEGIN:VTIMEZONE
TZID:"Europe/Vienna"
BEGIN:DAYLIGHT
TZOFFSETFROM:+0100
TZOFFSETTO:+0200
TZNAME:CEST
DTSTART:20250330T010000
END:DAYLIGHT
BEGIN:STANDARD
TZOFFSETFROM:+0200
TZOFFSETTO:+0100
TZNAME:CET
DTSTART:20251026T010000
END:STANDARD
END:VTIMEZONE
BEGIN:VEVENT
DTSTART;TZID="Europe/Vienna":20251202T150000
DTEND;TZID="Europe/Vienna":20251231T180000
DTSTAMP:20260421T014125
CREATED:20251204T102222Z
LAST-MODIFIED:20251204T102222Z
UID:111367-1764687600-1767204000@www.strawanzerin.at
SUMMARY:vienna art market (v.a.m.) part 75
DESCRIPTION:Gruppenausstellung verschiedener Künstler:innen:\nDieter Allesch\, Waltraud Bauer\, Herbert Bisovsky\, Mike Blumentopf\, Ana Bulajic\, Eva Chwosta\, Franz Gager\, Momo Höflinger\, Roswitha Kandler\, Anna Krizanits\, Erika Navas\, Bernhard Niegel\, Tatiana Pascal\, Herbert Pasiecznyk\, Andrea Pröll\, Claudia Rannow\, Bert Schifferdecker\, Christine Schinner\, Berit Steffin\, Eva Wiesner. \n2.12.2025 – 31.12.2025\nVernissage am 9.12. 15:00-21:00 Uhr.\nÖffnungszeiten:\nDi-Fr 15:00-18:00\nSa mit Kaffee und Kuchen 10:00-13:00 \n
URL:https://www.strawanzerin.at/termin/vienna-art-market-v-a-m-part-75/
LOCATION:vienna art market (v.a.m.) – 1180\, Währinger Str. 100\, Währinger Str. 100\, Wien\, Wien\, 1180\, Österreich
CATEGORIES:Kunst/Kultur
ORGANIZER;CN="vienna%20art%20market%20%28v.a.m.%29":MAILTO:mike@blumentopf.at
END:VEVENT
END:VCALENDAR