BEGIN:VCALENDAR
VERSION:2.0
PRODID:-//STRAWANZERIN - ECPv4.9.5//NONSGML v1.0//EN
CALSCALE:GREGORIAN
METHOD:PUBLISH
X-WR-CALNAME:STRAWANZERIN
X-ORIGINAL-URL:https://www.strawanzerin.at
X-WR-CALDESC:Veranstaltungen im STRAWANZERIN
BEGIN:VTIMEZONE
TZID:"Europe/Vienna"
BEGIN:DAYLIGHT
TZOFFSETFROM:+0100
TZOFFSETTO:+0200
TZNAME:CEST
DTSTART:20260329T010000
END:DAYLIGHT
BEGIN:STANDARD
TZOFFSETFROM:+0200
TZOFFSETTO:+0100
TZNAME:CET
DTSTART:20261025T010000
END:STANDARD
END:VTIMEZONE
BEGIN:VEVENT
DTSTART;TZID="Europe/Vienna":20260203T150000
DTEND;TZID="Europe/Vienna":20260228T130000
DTSTAMP:20260422T022601
CREATED:20260205T092408Z
LAST-MODIFIED:20260205T092408Z
UID:112238-1770130800-1772283600@www.strawanzerin.at
SUMMARY:vienna art market (v.a.m.) part 77
DESCRIPTION:Gruppenausstellung der Künstler:innen:\nGudrun Kaitna-Engel\, Bernhard Niegel\, Franz Gager\, Christine Schinner\, Herbert Bisovsky\, Eva Flieger-Zeller\, Johann Luif\, Herbert Pasiecznyk\, Mike Blumentopf\, Momo Höflinger und mehr… \nVernissage am 3.Februar 2026 15:00-21:00 Uhr. \nAnschließende Öffnungszeiten:\nDi-Fr 15:00-18:00\nSa mit Kaffee und Kuchen 10:30-13:00 \n
URL:https://www.strawanzerin.at/termin/vienna-art-market-v-a-m-part-77-2/
LOCATION:vienna art market (v.a.m.) – 1180\, Währinger Str. 100\, Währinger Str. 100\, Wien\, Wien\, 1180\, Österreich
CATEGORIES:Ausstellung,Kunst/Kultur
ATTACH;FMTTYPE=image/jpeg:https://www.strawanzerin.at/wp-content/uploads/2026/01/part77-EINLADUNG-1920wjpg.jpg
ORGANIZER;CN="vienna%20art%20market%20%28v.a.m.%29":MAILTO:mike@blumentopf.at
END:VEVENT
END:VCALENDAR