BEGIN:VCALENDAR
VERSION:2.0
PRODID:-//STRAWANZERIN - ECPv4.9.5//NONSGML v1.0//EN
CALSCALE:GREGORIAN
METHOD:PUBLISH
X-WR-CALNAME:STRAWANZERIN
X-ORIGINAL-URL:https://www.strawanzerin.at
X-WR-CALDESC:Veranstaltungen im STRAWANZERIN
BEGIN:VTIMEZONE
TZID:"Europe/Vienna"
BEGIN:DAYLIGHT
TZOFFSETFROM:+0100
TZOFFSETTO:+0200
TZNAME:CEST
DTSTART:20230326T010000
END:DAYLIGHT
BEGIN:STANDARD
TZOFFSETFROM:+0200
TZOFFSETTO:+0100
TZNAME:CET
DTSTART:20231029T010000
END:STANDARD
END:VTIMEZONE
BEGIN:VEVENT
DTSTART;TZID="Europe/Vienna":20230121T200000
DTEND;TZID="Europe/Vienna":20230121T220000
DTSTAMP:20260420T193327
CREATED:20230113T101804Z
LAST-MODIFIED:20230214T202408Z
UID:88237-1674331200-1674338400@www.strawanzerin.at
SUMMARY:»Vier linke Hände« in der Komödie am Kai
DESCRIPTION:Lustiges Beziehungsspiel mit Susanna Hirschler und Christian Spatzek \nAn ihrem 45. Geburtstag will Sophie ihrem Dasein in einer gefüllten Badewanne mit Hilfe von Schlaftabletten ein Ende setzen. Doch der Plan misslingt. Das Badewasser läuft über und überschwemmt die Wohnung des unter ihr lebenden Junggesellen. Was darauf folgt\, ist ein amüsanter Schlagabtausch zweier Menschen\, die nicht miteinander\, aber auch nicht ohneeinander leben können. Von 21. Jänner bis 11. März 2023 gönnen Susanna Hirschler und Christian Spatzek in diesem turbulenten Kampf der Geschlechter den Lachmuskeln keine Verschnaufpause! \nPremiere:\nDonnerstag\, 26. Jänner 2023\, um 20 Uhr \nVorstellungen:\n21. Jänner bis 11. März 2023\, Di bis Sa um 20 Uhr \nInfo:\nTel. 01 533 24 34 \nBild: Susanna Hirschler und Christian Spatzek in »Vier linke Hände«\, Foto/© Komödie am Kai \n
URL:https://www.strawanzerin.at/termin/vier-linke-haende-in-der-komoedie-am-kai/2023-01-21/
LOCATION:Komödie am Kai\, Franz-Josefs-Kai 29\, Wien\, Wien\, 1010\, Österreich
CATEGORIES:ab 7,Theater/Kabarett,Wien
ATTACH;FMTTYPE=image/jpeg:https://www.strawanzerin.at/wp-content/uploads/2023/01/VierLinkeHaende_KomKai.jpg
GEO:48.2121522;16.3749182
X-APPLE-STRUCTURED-LOCATION;VALUE=URI;X-ADDRESS=Komödie am Kai Franz-Josefs-Kai 29 Wien Wien 1010 Österreich;X-APPLE-RADIUS=500;X-TITLE=Franz-Josefs-Kai 29:geo:16.3749182,48.2121522
END:VEVENT
END:VCALENDAR