BEGIN:VCALENDAR
VERSION:2.0
PRODID:-//STRAWANZERIN - ECPv4.9.5//NONSGML v1.0//EN
CALSCALE:GREGORIAN
METHOD:PUBLISH
X-WR-CALNAME:STRAWANZERIN
X-ORIGINAL-URL:https://www.strawanzerin.at
X-WR-CALDESC:Veranstaltungen im STRAWANZERIN
BEGIN:VTIMEZONE
TZID:"Europe/Vienna"
BEGIN:DAYLIGHT
TZOFFSETFROM:+0100
TZOFFSETTO:+0200
TZNAME:CEST
DTSTART:20240331T010000
END:DAYLIGHT
BEGIN:STANDARD
TZOFFSETFROM:+0200
TZOFFSETTO:+0100
TZNAME:CET
DTSTART:20241027T010000
END:STANDARD
END:VTIMEZONE
BEGIN:VEVENT
DTSTART;TZID="Europe/Vienna":20241123T200000
DTEND;TZID="Europe/Vienna":20241123T220000
DTSTAMP:20260423T230546
CREATED:20241104T164041Z
LAST-MODIFIED:20241104T164041Z
UID:104433-1732392000-1732399200@www.strawanzerin.at
SUMMARY:VIVA LA MUSICA beim Liesinger Musikherbst
DESCRIPTION:Am Samstag\, dem 23. November 2024\, um 20 Uhr bringen Kanako Hayashi (Sopran)\, Taichi Hiratsuka (Klavier) und Issei Kurihara (Violine) im F23 die Welt der Klassik zum Klingen. Das Programm umfasst Werke von Johann Sebastian Bach\, Franz Schubert\, Felix Mendelssohn\, Camille Saint-Saens und Claude Debussy\, sowie japanisches Liedgut. \nDas Konzert erfolgt mit freundlicher Unterstützung aus Mitteln der Bezirkskultur Liesing. \nTickets:\n23 / 15 Euro \nBild: Kanako Hayashi (Sopran)\, Taichi Hiratsuka (Klavier) und Issei Kurihara (Violine)\, Foto: z.V.g.v. Kanako Hayashi \n
URL:https://www.strawanzerin.at/termin/viva-la-musica-beim-liesinger-musikherbst/
LOCATION:F23\, Breitenfurterstrasse 176\, Wien\, Wien\, 1230\, Österreich
CATEGORIES:ab 7,Kunst/Kultur,Musik,Wien
ATTACH;FMTTYPE=image/jpeg:https://www.strawanzerin.at/wp-content/uploads/2024/11/Viva-Kopie.jpg
GEO:48.1518178;16.3003604
X-APPLE-STRUCTURED-LOCATION;VALUE=URI;X-ADDRESS=F23 Breitenfurterstrasse 176 Wien Wien 1230 Österreich;X-APPLE-RADIUS=500;X-TITLE=Breitenfurterstrasse 176:geo:16.3003604,48.1518178
END:VEVENT
END:VCALENDAR