BEGIN:VCALENDAR
VERSION:2.0
PRODID:-//STRAWANZERIN - ECPv4.9.5//NONSGML v1.0//EN
CALSCALE:GREGORIAN
METHOD:PUBLISH
X-WR-CALNAME:STRAWANZERIN
X-ORIGINAL-URL:https://www.strawanzerin.at
X-WR-CALDESC:Veranstaltungen im STRAWANZERIN
BEGIN:VTIMEZONE
TZID:"Europe/Helsinki"
BEGIN:DAYLIGHT
TZOFFSETFROM:+0200
TZOFFSETTO:+0300
TZNAME:EEST
DTSTART:20140330T010000
END:DAYLIGHT
BEGIN:STANDARD
TZOFFSETFROM:+0300
TZOFFSETTO:+0200
TZNAME:EET
DTSTART:20141026T010000
END:STANDARD
END:VTIMEZONE
BEGIN:VEVENT
DTSTART;VALUE=DATE:20140830
DTEND;VALUE=DATE:20140902
DTSTAMP:20260421T103340
CREATED:20140703T174947Z
LAST-MODIFIED:20140704T090425Z
UID:3740-1409371200-1409543999@www.strawanzerin.at
SUMMARY:Volksstimmefest
DESCRIPTION:Widerstandslieder – Ausschreibung\nWiderstandslieder – Ausschreibung:\nDer Gewerkschaftliche Linksblock veranstaltet am Volksstimmefest 2014 am\n30.8. um 14:30 die „Widerstandslieder“. MusikerInnen\, Bands\, bitte\nbewerbt Euch zur Teilnahme! \nCa 10 Gruppen/Einzelpersonen werden aus allen Einsendungen ausgewählt\,\ndie Songs werden von den EinreicherInnen auf der Bühne präsentiert. Von\nden Darbietungen werden CDs produziert\, alle teilnehmenden Gruppen oder\nEinzelpersonen bekommen 20 CDs als Prämie überreicht. Weitere CDs werden\ndurch den GLB verteilt. Auflage 500 Stück. \nBewerbung sowohl von unplugged-Projekten als auch Bands sind möglich. Es\nwird aufgrund der möglichst kurzen Umbaupausen mit der vorhandenen\nBackline zu spielen sein: Schlagzeug\, 1 Bassverstärker\, 1\nGitarrenverstärker\, 3 DI-Boxen für eigene akustische Gitarren oder\neigenes Keyboard\, (diese „eigenen“ Instrumente sind selbest\nmitzubringen)\, 3 Gesangsmikrofone. \nAuswahlkriterien sind sowohl der widerständige/kritische Charakter des\nTexts als auch die musikalische Darbietung. \nAKM: Mitglieder werden im Rahmen der CD über die AKM abgegegolten\,\nnicht-Mitglieder erklären sich durch die Einrichtung damit\neinverstanden\, ihr Werk entgeltfrei und unbefristet für den GLB zur\nVerfügung zu stellen. \nBewerbungen bitte mit folgenden Anhängen an glb@glb-wien.at mailen:\n– Aufnahme des Lieds als mp3\n– Songtext (pdf)\n– Kurzbeschreibung der Band\, des Einzelmusikers (pdf)\n– bei nicht-deutschsprachigen Texten: Übersetzung (pdf) \nBewerbungsfrist: bis 20. Juli \nDie ausgewählten TeilnehmerInnen werden bis 1. August benachrichtigt\,\ndaß sie am 30. August spielen \n
URL:https://www.strawanzerin.at/termin/volksstimmefest/
LOCATION:Wien\, Prater\, Wien\, 1020\, Österreich
CATEGORIES:Fest,Gratis,Kunst/Kultur,Wien
ORGANIZER;CN="GLB":MAILTO:glb@glb-wien.at
GEO:48.2167269;16.3980286
X-APPLE-STRUCTURED-LOCATION;VALUE=URI;X-ADDRESS=Wien Prater Wien 1020 Österreich;X-APPLE-RADIUS=500;X-TITLE=Prater:geo:16.3980286,48.2167269
END:VEVENT
END:VCALENDAR