BEGIN:VCALENDAR
VERSION:2.0
PRODID:-//STRAWANZERIN - ECPv4.9.5//NONSGML v1.0//EN
CALSCALE:GREGORIAN
METHOD:PUBLISH
X-WR-CALNAME:STRAWANZERIN
X-ORIGINAL-URL:https://www.strawanzerin.at
X-WR-CALDESC:Veranstaltungen im STRAWANZERIN
BEGIN:VTIMEZONE
TZID:"Europe/Helsinki"
BEGIN:DAYLIGHT
TZOFFSETFROM:+0200
TZOFFSETTO:+0300
TZNAME:EEST
DTSTART:20160327T010000
END:DAYLIGHT
BEGIN:STANDARD
TZOFFSETFROM:+0300
TZOFFSETTO:+0200
TZNAME:EET
DTSTART:20161030T010000
END:STANDARD
END:VTIMEZONE
BEGIN:VEVENT
DTSTART;TZID="Europe/Helsinki":20160512T190000
DTEND;TZID="Europe/Helsinki":20160512T210000
DTSTAMP:20260423T175509
CREATED:20160406T112711Z
LAST-MODIFIED:20160407T110014Z
UID:26343-1463079600-1463086800@www.strawanzerin.at
SUMMARY:VOM WEGGEHEN UND ANKOMMEN - VORTRAG VON MARTIN POLLACK
DESCRIPTION:Migration aus historischer Sicht \nDer große Themenkomplex der Emigration und Migration kann seriös nur im historischen Kontext betrachtet werden. So haben zahlreiche Phänomene im Zusammenhang mit Migration (Schlepperei\, Menschenhandel\, Zwangsprostitution\, Unwissenheit der Migrantinnen und Migranten\, Vorurteile\, etc.) eine lange Historie. Das war bei den großen Emigrationswellen Ende des 19. und zu Beginn des 20 Jahrhunderts nicht anders. \nGeändert haben sich die Herkunftsländer. Sind früher die armen Menschen zuerst aus Schweden\, der Schweiz oder Irland und später aus Russland\, Galizien und anderen osteuropäischen Ländern in die USA emigriert\, so sind manche dieser Staaten nun Zielländer. Martin Pollack erklärt Zusammenhänge und Parallelen im historischen Kontext. \nMartin Pollack\, geboren 1944 in Oberösterreich\, studierte Slawistik und osteuropäische Geschichte. Er war von 1987 bis 1998 Redakteur des “Spiegel” in Warschau und Wien und arbeitet heute als Schriftsteller und literarischer Übersetzer. 2011 erhielt er den Leipziger Buchpreis zur Europäischen Verständigung und 2012 den Stanislaw-Vincenz-Preis. Bücher\, u.a.: “Kaiser von Amerika: Die große Flucht aus Galizien” 2010; „Warum wurden die Stanislaws erschossen?“ 2008; „Der Wolfsjäger“ zusammen mit Christoph Ransmayr 2011; „Kontaminierte Landschaften“ 2014. \nModeration: Edith Vanghelof (Grüne Bildungswerkstatt Wien) \n
URL:https://www.strawanzerin.at/termin/vom-weggehen-und-ankommen-vortrag-von-martin-pollack/
LOCATION:Literaturhaus\, Seidengasse 13\, Wien\, Wien\, 1070\, Österreich
CATEGORIES:Deutsch,Gratis,Literatur,Transnational,Wien
ATTACH;FMTTYPE=image/jpeg:https://www.strawanzerin.at/wp-content/uploads/2016/04/MartinPollack_Ayse-Yavas_klein.jpg
ORGANIZER;CN="Gr%C3%BCne%20Bildungswerkstatt%20Wien":MAILTO:info.wien@gbw.at
GEO:48.2002522;16.3453888
X-APPLE-STRUCTURED-LOCATION;VALUE=URI;X-ADDRESS=Literaturhaus Seidengasse 13 Wien Wien 1070 Österreich;X-APPLE-RADIUS=500;X-TITLE=Seidengasse 13:geo:16.3453888,48.2002522
END:VEVENT
END:VCALENDAR