BEGIN:VCALENDAR
VERSION:2.0
PRODID:-//STRAWANZERIN - ECPv4.9.5//NONSGML v1.0//EN
CALSCALE:GREGORIAN
METHOD:PUBLISH
X-WR-CALNAME:STRAWANZERIN
X-ORIGINAL-URL:https://www.strawanzerin.at
X-WR-CALDESC:Veranstaltungen im STRAWANZERIN
BEGIN:VTIMEZONE
TZID:"Europe/Vienna"
BEGIN:DAYLIGHT
TZOFFSETFROM:+0100
TZOFFSETTO:+0200
TZNAME:CEST
DTSTART:20230326T010000
END:DAYLIGHT
BEGIN:STANDARD
TZOFFSETFROM:+0200
TZOFFSETTO:+0100
TZNAME:CET
DTSTART:20231029T010000
END:STANDARD
END:VTIMEZONE
BEGIN:VEVENT
DTSTART;TZID="Europe/Vienna":20230223T193000
DTEND;TZID="Europe/Vienna":20230223T213000
DTSTAMP:20260421T224132
CREATED:20221211T162855Z
LAST-MODIFIED:20221214T110759Z
UID:88126-1677180600-1677187800@www.strawanzerin.at
SUMMARY:VON LÖWEN UND WÖLFEN
DESCRIPTION:Solokabarett von und mit: Ben Turecek \nRegie: Robert Mohor \nIm Gegensatz zu allgemeinen Behauptungen können Hunde und Katzen durchaus Freunde sein. Warum sind dann so wenig Menschen dazu in der Lage? Eine sehr ernste Frage\, die leider nicht beantwortet wird\, denn das Programm heißt ja „Von Löwen und Wölfen“ und nicht „Wie deppert san Menschen?“Im Mittelpunkt steht diesmal die Tierwelt\, denn wenn eine Hündin namens Lena und ein Kater namens Franz Josef in das Haus eines Kabarettisten einziehen\, dann gehtes bald rund. Wie bringt man beide Tiere\, ein Leben als Künstler und die allgemeine politische Lage unter einen Hut? Ein Programm voller Witz und Biss über Katzen\, Hunde und Politiker – ja ich wollte auch unbeliebteren Viechern eine Chance geben! \n
URL:https://www.strawanzerin.at/termin/von-loewen-und-woelfen-5/
LOCATION:Theater am Alsergrund\, Löblichgasse 5-7\, Wien\, Wien\, 1090\, Österreich
CATEGORIES:ab 7,Antifaschismus,Deutsch,Kunst/Kultur,Medien,Theater/Kabarett,Wien
ATTACH;FMTTYPE=image/png:https://www.strawanzerin.at/wp-content/uploads/2022/12/sujet-von-loewen-und-woelfen.png
ORGANIZER;CN="Theater%20am%20Alsergrund":MAILTO:office@alsergrund.com
GEO:48.2261214;16.3521696
X-APPLE-STRUCTURED-LOCATION;VALUE=URI;X-ADDRESS=Theater am Alsergrund Löblichgasse 5-7 Wien Wien 1090 Österreich;X-APPLE-RADIUS=500;X-TITLE=Löblichgasse 5-7:geo:16.3521696,48.2261214
END:VEVENT
END:VCALENDAR