BEGIN:VCALENDAR
VERSION:2.0
PRODID:-//STRAWANZERIN - ECPv4.9.5//NONSGML v1.0//EN
CALSCALE:GREGORIAN
METHOD:PUBLISH
X-WR-CALNAME:STRAWANZERIN
X-ORIGINAL-URL:https://www.strawanzerin.at
X-WR-CALDESC:Veranstaltungen im STRAWANZERIN
BEGIN:VTIMEZONE
TZID:"Europe/Helsinki"
BEGIN:DAYLIGHT
TZOFFSETFROM:+0200
TZOFFSETTO:+0300
TZNAME:EEST
DTSTART:20160327T010000
END:DAYLIGHT
BEGIN:STANDARD
TZOFFSETFROM:+0300
TZOFFSETTO:+0200
TZNAME:EET
DTSTART:20161030T010000
END:STANDARD
END:VTIMEZONE
BEGIN:VEVENT
DTSTART;TZID="Europe/Helsinki":20160526T200000
DTEND;TZID="Europe/Helsinki":20160526T230000
DTSTAMP:20260422T153142
CREATED:20160523T101752Z
LAST-MODIFIED:20160525T170650Z
UID:29326-1464292800-1464303600@www.strawanzerin.at
SUMMARY:Vorstadtcombo "...oba die Musik\, die bleibt!"
DESCRIPTION:…und Wien hat die   „VORSTADTCOMBO“\nK O N Z E R T  am 26. Mai 2016  ab 20:00 Uhr im SCHWARZBERG\ndie neue CD  „…oba die Musik \, die bleibt!“\nIn unverwechselbar souligem Sound gibt die „VORSTADTCOMBO“\ndem Wiener Lied eine neue Identität und kraftvollen Bestand in unserer hektischen Zeit.\nTraditionelles und neues Wiener Lied   crossover  „Wienermusik“     –  soulig\nDer „Zauber der Vorstadt“ Erfrischend\, urig und mitreißend rhythmisch…\nDie VORSTADTCOMBO  beweist\, dass mit:„SOUL“ die „WIENER SÖÖ“ gemeint ist\,  dass der „BLUES“ schon immer im „goldenen Wienerherz“ schlummerte und dass es bei „Wiener Musik“gehörig in den Beinen kribbeln kann.\nwww.vorstadtcombo.at \n
URL:https://www.strawanzerin.at/termin/vorstadtcombo-oba-die-musik-die-bleibt/
CATEGORIES:Deutsch,Eintrittspreis,Musik,Queer,Wien
ATTACH;FMTTYPE=image/jpeg:https://www.strawanzerin.at/wp-content/uploads/2016/05/VSC-Plakat-FB_20160526.jpg
END:VEVENT
END:VCALENDAR