BEGIN:VCALENDAR
VERSION:2.0
PRODID:-//STRAWANZERIN - ECPv4.9.5//NONSGML v1.0//EN
CALSCALE:GREGORIAN
METHOD:PUBLISH
X-WR-CALNAME:STRAWANZERIN
X-ORIGINAL-URL:https://www.strawanzerin.at
X-WR-CALDESC:Veranstaltungen im STRAWANZERIN
BEGIN:VTIMEZONE
TZID:"Europe/Helsinki"
BEGIN:DAYLIGHT
TZOFFSETFROM:+0200
TZOFFSETTO:+0300
TZNAME:EEST
DTSTART:20160327T010000
END:DAYLIGHT
BEGIN:STANDARD
TZOFFSETFROM:+0300
TZOFFSETTO:+0200
TZNAME:EET
DTSTART:20161030T010000
END:STANDARD
END:VTIMEZONE
BEGIN:VEVENT
DTSTART;TZID="Europe/Helsinki":20161022T200000
DTEND;TZID="Europe/Helsinki":20161022T230000
DTSTAMP:20260424T134605
CREATED:20161010T151552Z
LAST-MODIFIED:20161010T151552Z
UID:34509-1477166400-1477177200@www.strawanzerin.at
SUMMARY:Vorstadtkombo
DESCRIPTION:Wieder mal trifft sich die VORSTADTCOMBO zu einem musikalischen „StellDichEin“ im SCHWARZBERG.\n22. Oktober 2016  ab 20:00 Uhr\nDie Besetzung der Combo spricht für sich: \nOtto Hablit: voc.\, akk.\, keys.\nHorst Hausleitner: sax.\, klar.\nThomas Palme: git.\nChristoph Mares: voc.\, bass.\nChristian Schmied: drums\, perc.\nAlexandra Houdjakova: voc. \nDie VORSTADTCOMBO präsentiert Lieder aus der „Huacht´s Zua“-CD\, aus der „…oba die Musik\, die bleibt!“-CD und aus der brandneuen Produktion: „Weida Geht`s“\nSoulige\, jazzige\, bluesige\, groovige wienerische Musik mit der dazugehörigen Portion „Wiener Schmäh“ wartet  auf das geschulte Publikum.\nLängst ist die VORSTADTCOMBO  zu einer nicht weg zu denkenden Wiener Institution geworden.\nDie mitreissende Musik mit anspruchsvollen Wiener Dialekt Texten gewürzt\, gehört zu den qualitativ hochwertigsten und interessantesten Formationen dieser Stadt. \n
URL:https://www.strawanzerin.at/termin/vorstadtkombo/
CATEGORIES:Musik
ATTACH;FMTTYPE=image/jpeg:https://www.strawanzerin.at/wp-content/uploads/2016/10/VSC-Plakat-A1-portrait_20161022_FB.jpg
ORGANIZER;CN="Otto%20Hablit":MAILTO:show1@aon.at
END:VEVENT
END:VCALENDAR