BEGIN:VCALENDAR
VERSION:2.0
PRODID:-//STRAWANZERIN - ECPv4.9.5//NONSGML v1.0//EN
CALSCALE:GREGORIAN
METHOD:PUBLISH
X-WR-CALNAME:STRAWANZERIN
X-ORIGINAL-URL:https://www.strawanzerin.at
X-WR-CALDESC:Veranstaltungen im STRAWANZERIN
BEGIN:VTIMEZONE
TZID:"Europe/Vienna"
BEGIN:DAYLIGHT
TZOFFSETFROM:+0100
TZOFFSETTO:+0200
TZNAME:CEST
DTSTART:20240331T010000
END:DAYLIGHT
BEGIN:STANDARD
TZOFFSETFROM:+0200
TZOFFSETTO:+0100
TZNAME:CET
DTSTART:20241027T010000
END:STANDARD
END:VTIMEZONE
BEGIN:VEVENT
DTSTART;TZID="Europe/Vienna":20241022T071500
DTEND;TZID="Europe/Vienna":20241022T084500
DTSTAMP:20260420T213656
CREATED:20240814T163300Z
LAST-MODIFIED:20240814T163300Z
UID:101638-1729581300-1729586700@www.strawanzerin.at
SUMMARY:Vortrag: Beruflicher Erfolg im Musikleben
DESCRIPTION:Business Netzwerk für Künstlerinnen und Künstler informiert und gibt Tipps \nVerwertungsgesellschaften wie die AKM in Österreich helfen Autorinnen und Autoren\, Komponistinnen und Komponisten sowie Musikverlagen dabei\, ihre Urheberrechte wahrzunehmen und das Geld zu bekommen\, das ihnen auch laut Gesetz zusteht. Genau um diese Themen geht es beim »Künstler Business Frühstück« am Dienstag\, dem 22. Oktober 2024 um 7:15 Uhr im Hotel Zeitgeist Vienna. Dabei erklärt der Komponist und AKM-Vizepräsident Paul Hertel\, warum gerade in Zeiten von KI und neuen Medien der Erfolg im Musikleben direkt mit der Mitgliedschaft bei einer Organisation wie der AKM gekoppelt ist. \nDas »Künstler Business Frühstück« bietet seit dem Jahr 2016 eine Plattform für erfolgreiches Networking und praxisorientierte Weiterbildung. Die Zielgruppe sind professionelle\, unternehmerisch denkende Künstlerinnen und Künstler sowie deren berufliches Umfeld. Dieses moderierte und strukturierte Netzwerktreffen findet regelmäßig an jedem dritten Dienstag von 7:15 bis 8:45 Uhr im Hotel Zeitgeist Vienna nahe beim Wiener Hauptbahnhof statt\, wobei die Vorstellungsrunde aller Teilnehmenden sowie Know-How vermittelnde Impulsvorträge renommierter Fachleute zu den Fixpunkten zählen. \nBild: AKM-Vizepräsident Paul Hertel mit Moderatorin und Sopranistin Monika Medek beim Künstler Business Frühstück\, Foto/© Silvia Eitler \n
URL:https://www.strawanzerin.at/termin/vortrag-beruflicher-erfolg-im-musikleben/
LOCATION:Hotel ZEITGEIST Vienna\, Sonnwendgasse 15\, Wien\, Wien\, 1100\, Österreich
CATEGORIES:ab 7,Kunst/Kultur,Musik,Vortrag/Symposium,Wien
ATTACH;FMTTYPE=image/jpeg:https://www.strawanzerin.at/wp-content/uploads/2024/08/Foto_Silvia-Eitler.jpg
GEO:48.1822922;16.3783348
X-APPLE-STRUCTURED-LOCATION;VALUE=URI;X-ADDRESS=Hotel ZEITGEIST Vienna Sonnwendgasse 15 Wien Wien 1100 Österreich;X-APPLE-RADIUS=500;X-TITLE=Sonnwendgasse 15:geo:16.3783348,48.1822922
END:VEVENT
END:VCALENDAR