BEGIN:VCALENDAR
VERSION:2.0
PRODID:-//STRAWANZERIN - ECPv4.9.5//NONSGML v1.0//EN
CALSCALE:GREGORIAN
METHOD:PUBLISH
X-WR-CALNAME:STRAWANZERIN
X-ORIGINAL-URL:https://www.strawanzerin.at
X-WR-CALDESC:Veranstaltungen im STRAWANZERIN
BEGIN:VTIMEZONE
TZID:"Europe/Paris"
BEGIN:DAYLIGHT
TZOFFSETFROM:+0100
TZOFFSETTO:+0200
TZNAME:CEST
DTSTART:20150329T010000
END:DAYLIGHT
BEGIN:STANDARD
TZOFFSETFROM:+0200
TZOFFSETTO:+0100
TZNAME:CET
DTSTART:20151025T010000
END:STANDARD
END:VTIMEZONE
BEGIN:VEVENT
DTSTART;TZID="Europe/Paris":20150903T190000
DTEND;TZID="Europe/Paris":20150903T210000
DTSTAMP:20260421T034136
CREATED:20150625T095958Z
LAST-MODIFIED:20150629T105311Z
UID:17932-1441306800-1441314000@www.strawanzerin.at
SUMMARY:Normen – Subjekte – Transgressionen: epistemologische und ästhetische Perspektiven
DESCRIPTION:Keynote im Rahmen der literatur_medienwissenschaftlichen Nachwuchskonferenz DINN_A* – Normen\, Normierungsprozesse und deren Brüche in Narrativen und Disziplinen\nÜbersetzung in ÖGS\, Raum ist barrierefrei zugänglich\, Toiletten folgen keiner binären Einteilung \n
URL:https://www.strawanzerin.at/termin/vortrag-eveline-kilian-hu-berlin-normen-subjekte-transgressionen-epistemologische-und-aesthetische-perspektiven/
LOCATION:Aula Campus AAKH\, Spitalgasse 2\, Wien\, Wien\, 1090\, Österreich
CATEGORIES:Deutsch,Feminismus,Gratis,Vortrag/Symposium,Wien
ATTACH;FMTTYPE=:
ORGANIZER;CN="Orga%20Team%20Nachwuchskonferenz":MAILTO:dinn_a@gmx.at
GEO:48.2167238;16.3531977
X-APPLE-STRUCTURED-LOCATION;VALUE=URI;X-ADDRESS=Aula Campus AAKH Spitalgasse 2 Wien Wien 1090 Österreich;X-APPLE-RADIUS=500;X-TITLE=Spitalgasse 2:geo:16.3531977,48.2167238
END:VEVENT
END:VCALENDAR