BEGIN:VCALENDAR
VERSION:2.0
PRODID:-//STRAWANZERIN - ECPv4.9.5//NONSGML v1.0//EN
CALSCALE:GREGORIAN
METHOD:PUBLISH
X-WR-CALNAME:STRAWANZERIN
X-ORIGINAL-URL:https://www.strawanzerin.at
X-WR-CALDESC:Veranstaltungen im STRAWANZERIN
BEGIN:VTIMEZONE
TZID:"Europe/Helsinki"
BEGIN:DAYLIGHT
TZOFFSETFROM:+0200
TZOFFSETTO:+0300
TZNAME:EEST
DTSTART:20160327T010000
END:DAYLIGHT
BEGIN:STANDARD
TZOFFSETFROM:+0300
TZOFFSETTO:+0200
TZNAME:EET
DTSTART:20161030T010000
END:STANDARD
END:VTIMEZONE
BEGIN:VEVENT
DTSTART;TZID="Europe/Helsinki":20160512T183000
DTEND;TZID="Europe/Helsinki":20160512T183000
DTSTAMP:20260423T194309
CREATED:20160512T113317Z
LAST-MODIFIED:20160512T190413Z
UID:29100-1463077800-1463077800@www.strawanzerin.at
SUMMARY:Vortrag „Psychotherapie und Gesellschaftskritik“ von Elisabeth Vykoukal
DESCRIPTION:Die Leidensgeschichten meiner Patientinnen und Patienten zeigen\, dass die Anforderungen und Normen unserer Kultur dem individuellen Streben nach Glück in vielfältiger Weise entgegenstehen. So ist Gesellschaftskritik selbstverständlicher Bestandteil psychotherapeutischer Tätigkeit. Es geht um den Konflikt zwischen Anpassung und Auflehnung\, um die Bewältigung von Verzweiflung und Hilflosigkeit und um die Entdeckung neuer Perspektiven. Als Psychoanalytikerin arbeite ich gemeinsam mit meinen Patientinnen und Patienten an der Erkenntnis des Unbewussten. Eine Bedingung dieser Tätigkeit ist\, dass ich auch meine eigene Haltung zur Gesellschaft und meine Rolle zum Gegenstand der Reflexion mache. Die Fragen\, die sich mir stellen in der Ausübung dieses „unmöglichen Berufes“ möchte ich zur Diskussion stellen. \n
URL:https://www.strawanzerin.at/termin/vortrag-psychotherapie-und-gesellschaftskritik-von-elisabeth-vykoukal/
END:VEVENT
END:VCALENDAR