BEGIN:VCALENDAR
VERSION:2.0
PRODID:-//STRAWANZERIN - ECPv4.9.5//NONSGML v1.0//EN
CALSCALE:GREGORIAN
METHOD:PUBLISH
X-WR-CALNAME:STRAWANZERIN
X-ORIGINAL-URL:https://www.strawanzerin.at
X-WR-CALDESC:Veranstaltungen im STRAWANZERIN
BEGIN:VTIMEZONE
TZID:"Europe/Vienna"
BEGIN:DAYLIGHT
TZOFFSETFROM:+0100
TZOFFSETTO:+0200
TZNAME:CEST
DTSTART:20250330T010000
END:DAYLIGHT
BEGIN:STANDARD
TZOFFSETFROM:+0200
TZOFFSETTO:+0100
TZNAME:CET
DTSTART:20251026T010000
END:STANDARD
END:VTIMEZONE
BEGIN:VEVENT
DTSTART;TZID="Europe/Vienna":20251009T180000
DTEND;TZID="Europe/Vienna":20251009T200000
DTSTAMP:20260422T174954
CREATED:20250904T075110Z
LAST-MODIFIED:20250904T075110Z
UID:109361-1760032800-1760040000@www.strawanzerin.at
SUMMARY:Vortrags- und Diskussionsveranstaltung: „Trotz Gewalt und Unrecht den Frieden suchen“. Vortrag und Gespräch mit Sumaya Farhat-Nasar
DESCRIPTION:Wo: Albert Schweitzer Haus\, Saal\, Schwarzspanierstraße 13\, 1090 Wien. \nBeschreibung:  \n„Die Situation in Palästina und Israel ist katastrophal und bedrohlich wie nie zuvor. Eine unfassbare Zahl an menschlichen Opfern\, die Zerstörung der Häuser und der Infrastruktur beraubt die Lebensgrundlage und führt zur Vertreibung. Wie schaffen es Menschen\, zu überleben\, bei so viel Gewalt\, Angst und Perspektivlosigkeit?“ \nDiese Frage stellt sich die mehrfach ausgezeichnete Friedenspädagogin und Autorin Sumaya Farhat-Naser\, die sich seit Jahrzehnten gewaltfrei und dialogisch für einen gerechten Frieden einsetzt. \nIn ihrem Vortrag gibt sie Einblick in die Lebenssituation\, Herausforderungen und Zukunftsaussichten der Menschen in Palästina und Israel. \n
URL:https://www.strawanzerin.at/termin/vortrags-und-diskussionsveranstaltung-trotz-gewalt-und-unrecht-den-frieden-suchen-vortrag-und-gespraech-mit-sumaya-farhat-nasar/
LOCATION:Albert Schweitzer Haus\, Saal\, Schwarzspanierstraße 13\, Wien\, 1090\, Österreich
END:VEVENT
END:VCALENDAR