BEGIN:VCALENDAR
VERSION:2.0
PRODID:-//STRAWANZERIN - ECPv4.9.5//NONSGML v1.0//EN
CALSCALE:GREGORIAN
METHOD:PUBLISH
X-WR-CALNAME:STRAWANZERIN
X-ORIGINAL-URL:https://www.strawanzerin.at
X-WR-CALDESC:Veranstaltungen im STRAWANZERIN
BEGIN:VTIMEZONE
TZID:"Europe/Vienna"
BEGIN:DAYLIGHT
TZOFFSETFROM:+0100
TZOFFSETTO:+0200
TZNAME:CEST
DTSTART:20220327T010000
END:DAYLIGHT
BEGIN:STANDARD
TZOFFSETFROM:+0200
TZOFFSETTO:+0100
TZNAME:CET
DTSTART:20221030T010000
END:STANDARD
END:VTIMEZONE
BEGIN:VEVENT
DTSTART;TZID="Europe/Vienna":20220125T190000
DTEND;TZID="Europe/Vienna":20220305T170000
DTSTAMP:20260421T044753
CREATED:20220119T181321Z
LAST-MODIFIED:20220202T121419Z
UID:82597-1643137200-1646499600@www.strawanzerin.at
SUMMARY:„VOW“ von Debby Friday: als Teil der Gruppenausstellung „connections unplugged\, bodies rewired“
DESCRIPTION:als Teil der Gruppenausstellung „connections unplugged\, bodies rewired“\nkuratiert von Frederike Sperling \nEröffnung: 25.01.2022\, 21–22:30h\nAusstellungsdauer: 25.01.2022 – 05.03.2022 \nDas audio-visuelle Stück „VOW“ wird unsere aktuelle Gruppenausstellung „connections unplugged\, bodies rewired“ erweitern. In der futuristischen Welt eines Rave-Planeten und des virtuellen Lebens erforscht Debby Friday darin spekulative Beziehungen und die Intimitäten zwischen uns und unserem zukünftigem virtuellen Ich. Aspekte aus den Bereichen Theater\, Radio\, generative Kunst und elektronische Musikproduktion vereinend\, hat Debby Friday mithilfe von Generative Adversarial Networks (GANs) und Sound ein sich ständig veränderndes Bild kreiert.  \nIm Rahmen der Eröffnung findet am 25.01.2022 um 19h die Podiumsdiskussion „For whom do we dance when the club’s closed?“ mit Johanna Bruckner (Künstlerin)\, Zaiba Jabbar (Regisseurin\, Kuratorin und Begründerin von Hervisions)\, Laurent Koepp (ehem. Vienna Club Commission) und Troels Primdahl (Regisseur\, Choreograph und Produzent)\, moderiert von Frederike Sperling (live vor Ort und per Youtube-Livestream\, weitere Informationen: https://w.dasweissehaus.at/exhibition/podiumsdiskussion-for-whom-do-we-dance-when-the-clubs-closed/) statt.  \n
URL:https://www.strawanzerin.at/termin/vow-von-debby-friday-als-teil-der-gruppenausstellung-connections-unplugged-bodies-rewired/
LOCATION:Hegelgasse 14
CATEGORIES:Ausstellung
ATTACH;FMTTYPE=image/jpeg:https://www.strawanzerin.at/wp-content/uploads/2022/01/COVER1.jpg
ORGANIZER;CN="Kunstverein%20das%20weisse%20haus":MAILTO:buero@dasweissehaus.at
END:VEVENT
END:VCALENDAR