BEGIN:VCALENDAR
VERSION:2.0
PRODID:-//STRAWANZERIN - ECPv4.9.5//NONSGML v1.0//EN
CALSCALE:GREGORIAN
METHOD:PUBLISH
X-WR-CALNAME:STRAWANZERIN
X-ORIGINAL-URL:https://www.strawanzerin.at
X-WR-CALDESC:Veranstaltungen im STRAWANZERIN
BEGIN:VTIMEZONE
TZID:"Europe/Helsinki"
BEGIN:DAYLIGHT
TZOFFSETFROM:+0200
TZOFFSETTO:+0300
TZNAME:EEST
DTSTART:20140330T010000
END:DAYLIGHT
BEGIN:STANDARD
TZOFFSETFROM:+0300
TZOFFSETTO:+0200
TZNAME:EET
DTSTART:20141026T010000
END:STANDARD
END:VTIMEZONE
BEGIN:VEVENT
DTSTART;TZID="Europe/Helsinki":20140426T080000
DTEND;TZID="Europe/Helsinki":20140601T170000
DTSTAMP:20260422T164850
CREATED:20140513T125151Z
LAST-MODIFIED:20140517T130829Z
UID:1101-1398499200-1401642000@www.strawanzerin.at
SUMMARY:W. Otto Geberzahn - PARA !?! DIESE
DESCRIPTION:W. Otto Geberzahn – „Paradiese auf dem Prüfstand“ – in seiner ersten großen Wiener Einzelausstellung! In seiner Ausstellung „PARA !?! DIESE“\, die am 26. April in der ehemaligen Zuckerlfabrik eröffnet wird und ab 1. Mai in das Szenelokal i Bebop I übersiedelt\, stellt W. Otto GEBERZAHN in verschiedenen Bildsprachen den Paradiesbegriff in Frage. Für Geberzahn ist das Paradies eine „Chimäre aus individuellen Fantasien und archetypischen Wünschen“\, dem die Menschen hinterher hecheln\, obwohl sie wissen\, dass es für sie unerreichbar ist. „Die Wahrheit über Adam und Eva“ (eines der Werke in der Ausstellung) ansatzweise zu erfahren\, ist daher obsolet. Dies kommt auch im Ausstellungstitel zum Tragen: zwischen „Para“ und „diese“ stehen zwei Rufzeichen und ein Fragezeichen. Geberzahns Bilder zeigen „alle möglichen Facetten dieser vergeblichen Suche nach einer endgültigen Vollendung“\, so sein Statement. Er gestaltete seine Acrylbilder zum Thema mit einer Fülle an Motiven\, in einem grellen Farbspektrum. Die Grenzen zwischen Konkretem\, Abstraktem und Surrealem sind aufgehoben. Seiner Maxime\, Wiederholungen weitgehend auszuschalten\, mit jedem Bild „immer wieder neu zu beginnen“\, ohne sich auf einen bestimmten Stil festlegen zu müssen und dennoch im Duktus wieder erkennbar zu sein\, ist Geberzahn auch hier treu geblieben.  \nW. Otto GEBERZAHN\, Jahrgang 1947\, studierte Architektur an der Universität Karlsruhe. Er war Architekt und Unternehmer im Marketing für die Möbelindustrie\, mit eigenem Büro für Kommunikation sowie Journalist und selbstständiger Chefredakteur von Designmagazinen. Er beriet zahlreiche designorientierte Unternehmen. Geberzahn beschäftigt sich seit der Kindheit intensiv mit Gestaltung und Malerei. 2005 erfolgte sein intensiver Wiedereinstieg in die Kunst als Autodidakt. Zahlreiche Einzelausstellungen und Beteiligungen an Gruppenausstellungen in Deutschland\, USA\, Österreich. Mitglied in der artclub-galerie\, Köln und bei ::kunst-projekte::. W. Otto Geberzahn lebt in Schwäbisch-Gmünd\, D. Ehemalige Zuckerlfabrik Hägelingasse 7 und ab 1.5. \n
URL:https://www.strawanzerin.at/termin/w-otto-geberzahn-d-para-diese-eine-ausstellung-zwei-orte/
LOCATION:Bebop !\, Breitenseer Straße 39\, Wien\, Wien\, 1140\, Österreich
CATEGORIES:Ausstellung,Deutsch,Gratis
GEO:48.2020703;16.3063254
X-APPLE-STRUCTURED-LOCATION;VALUE=URI;X-ADDRESS=Bebop ! Breitenseer Straße 39 Wien Wien 1140 Österreich;X-APPLE-RADIUS=500;X-TITLE=Breitenseer Straße 39:geo:16.3063254,48.2020703
END:VEVENT
END:VCALENDAR