BEGIN:VCALENDAR
VERSION:2.0
PRODID:-//STRAWANZERIN - ECPv4.9.5//NONSGML v1.0//EN
CALSCALE:GREGORIAN
METHOD:PUBLISH
X-WR-CALNAME:STRAWANZERIN
X-ORIGINAL-URL:https://www.strawanzerin.at
X-WR-CALDESC:Veranstaltungen im STRAWANZERIN
BEGIN:VTIMEZONE
TZID:"Europe/Helsinki"
BEGIN:DAYLIGHT
TZOFFSETFROM:+0200
TZOFFSETTO:+0300
TZNAME:EEST
DTSTART:20140330T010000
END:DAYLIGHT
BEGIN:STANDARD
TZOFFSETFROM:+0300
TZOFFSETTO:+0200
TZNAME:EET
DTSTART:20141026T010000
END:STANDARD
END:VTIMEZONE
BEGIN:VEVENT
DTSTART;TZID="Europe/Helsinki":20141117T190000
DTEND;TZID="Europe/Helsinki":20141117T200000
DTSTAMP:20260422T003544
CREATED:20141020T092208Z
LAST-MODIFIED:20141029T144230Z
UID:8225-1416250800-1416254400@www.strawanzerin.at
SUMMARY:Wachmann\, pass auf!  - von Martin Baltscheit
DESCRIPTION:Eine Sandstrandschlacht am Bühnenrand für alle ab 14 Jahren. \nEin junger Mann baut Sandschlösser am Strand und beobachtet dabei die Mädchen\, die elegant auf ihren Brettern über die Wellen reiten. Eine von ihnen bittet ihn\, kurz auf ihr Brett aufzupassen. Und der junge Mann wacht\, stundenlang\, tagelang. Er nimmt seine Aufgabe ernst\, sehr ernst – er würde das Brett sogar mit seinem Leben verteidigen. Er baut eine Mauer und steht stramm vor seinem Wachhaus\, ein durch und durch vorbildlicher Wachmann. Niemand darf rein\, niemand raus\, so einfach ist das. Auch als der Wachmann Besuch bekommt von einem alten Mann\, der ihn in immer neuen Rollenspielen zu überreden versucht\, das Tor zu öffnen\, bleibt er standhaft. Doch das allerletzte Spiel funktioniert\, der Wachmann lässt sich verführen und schon überrollt die feindliche Armee das Land. \nMartin Baltscheit hat ein großartiges Stück über die inneren und äußeren Grenzen geschrieben. In assoziativen Spielen lässt der Autor seine Figur wachsen. Dieses Stück ist respekt- und kompromisslos\, witzig und poetisch zugleich und bietet dem Publikum immer wieder Anreiz\, aber auch Leerstellen\, um weiterzudenken\, um selbständig ein Urteil bilden zu können. Und es hat ein großes\, ein gewichtiges Sujet: Wie schön ist es\, wenn jemand Wache hält? Wie sicher und geborgen fühlen wir uns dann? \nInszenierung\, Bühne\, Kostüm: Ensemble Imp:Art \nMit: Klemens Dellacher | Wachmann mit der flotten Fantasie\nMichaela Obertscheider | alter Mann\, die Mutter\, der General\, das junge Mädchen\, die Surferin und einen Erpel \nHunger auf Kunst und Kultur-Pass: Je nach Verfügbarkeit gibt es ein Freikartenkontingent pro Vorstellung\, ausgenommen davon sind Premieren\, Silvester und Sonderveranstaltungen. Gegen Vorlage eines Kultur-Passes in Verbindung mit einem gültigen Lichtbildausweis hat man Anspruch auf eine Karte\, die ausschließlich an der Abendkassa ab 1 Stunde vor Vorstellungsbeginn erhältlich ist. \n
URL:https://www.strawanzerin.at/termin/wachmann-pass-auf-von-martin-baltscheit/
CATEGORIES:ab 7,Deutsch,Kunst/Kultur,Theater/Kabarett,Wien
ATTACH;FMTTYPE=image/jpeg:https://www.strawanzerin.at/wp-content/uploads/2014/10/rsz_wachmann_flyer_vorn_fin_nov2014.jpg
END:VEVENT
END:VCALENDAR