BEGIN:VCALENDAR
VERSION:2.0
PRODID:-//STRAWANZERIN - ECPv4.9.5//NONSGML v1.0//EN
CALSCALE:GREGORIAN
METHOD:PUBLISH
X-WR-CALNAME:STRAWANZERIN
X-ORIGINAL-URL:https://www.strawanzerin.at
X-WR-CALDESC:Veranstaltungen im STRAWANZERIN
BEGIN:VTIMEZONE
TZID:"Europe/Vienna"
BEGIN:DAYLIGHT
TZOFFSETFROM:+0100
TZOFFSETTO:+0200
TZNAME:CEST
DTSTART:20240331T010000
END:DAYLIGHT
BEGIN:STANDARD
TZOFFSETFROM:+0200
TZOFFSETTO:+0100
TZNAME:CET
DTSTART:20241027T010000
END:STANDARD
END:VTIMEZONE
BEGIN:VEVENT
DTSTART;TZID="Europe/Vienna":20240928T153000
DTEND;TZID="Europe/Vienna":20240928T180000
DTSTAMP:20260420T133538
CREATED:20240906T173721Z
LAST-MODIFIED:20240906T173721Z
UID:102952-1727537400-1727546400@www.strawanzerin.at
SUMMARY:Wahl zum Song für Favoriten
DESCRIPTION:Favoriten feiert heuer seinen 150. Geburtstag. Aus diesem Anlass waren Musikerinnen und Musiker aller Genres von Austropop bis Soul eingeladen\, eigens komponierte Musik-Text-Kompositionen abzuliefern\, die eine musikalische Liebeserklärung an den 10. Bezirk darstellen. Bis zum Einsendeschluss Ende Mai erfolgten rund 40 Einreichungen. Im Sommer kam es zur Kür der Top-Ten\, die am Samstag\, dem 28. September 2024\, ab 15:30 Uhr bei der großen Live-Show im Tivoli-Center im Böhmischen Prater präsentiert werden. Unter Publikumsbeteiligung steht dort die Wahl zum »Song für Favoriten« auf dem Programm. Moderator ist Sascha Boctor. \nLiederwettbewerb live am 28. September 2024 \nZu den Jury-Mitgliedern beim Live-Event zählen etwa Ruth Freitag von der Musikschule Favoriten\, der Opernsänger Angelo Pollak und der Kabarettist Günther »Gunkl« Paal. Mit dem »Applausometer« bekommt auch das Publikum eine Stimme. Als Hauptpreis winkt der Gewinnerin oder dem Gewinner die professionelle Produktion des Sieger-Songs im Tonstudio. Die Bezirksvorstehung darf in weiterer Folge das zur Nummer 1 gekürte Lied als künftigen\, offiziellen Bezirks-Song verwenden. Sonstige Rechte an dem Musikwerk und etwaige Tantiemen verbleiben bei den Urheberinnen und Urhebern. \nWICHTIG: Tickets für den 28. September 2024 sind gratis erhältlich auf https://events.eventjet.at/e/live-show-song-fuer-favoriten (Achtung: begrenzte Platzanzahl!!!). \nBild: Musikerinnen und Musiker wie X3NIA (Xenia Geppert) präsentieren ihren »Song für Favoriten«\, Foto/© Dijana Idinger/Vistavision \n
URL:https://www.strawanzerin.at/termin/wahl-zum-song-fuer-favoriten/
LOCATION:Böhmischer Prater\, Tivoli\, Laaer Wald 30c\, 1100 Wien\, Wien\, 1100\, Österreich
CATEGORIES:Gratis,Musik,Wien
ATTACH;FMTTYPE=image/jpeg:https://www.strawanzerin.at/wp-content/uploads/2024/09/07-Xenia-Geppert.jpg
END:VEVENT
END:VCALENDAR