BEGIN:VCALENDAR
VERSION:2.0
PRODID:-//STRAWANZERIN - ECPv4.9.5//NONSGML v1.0//EN
CALSCALE:GREGORIAN
METHOD:PUBLISH
X-WR-CALNAME:STRAWANZERIN
X-ORIGINAL-URL:https://www.strawanzerin.at
X-WR-CALDESC:Veranstaltungen im STRAWANZERIN
BEGIN:VTIMEZONE
TZID:"Europe/Vienna"
BEGIN:DAYLIGHT
TZOFFSETFROM:+0100
TZOFFSETTO:+0200
TZNAME:CEST
DTSTART:20180325T010000
END:DAYLIGHT
BEGIN:STANDARD
TZOFFSETFROM:+0200
TZOFFSETTO:+0100
TZNAME:CET
DTSTART:20181028T010000
END:STANDARD
END:VTIMEZONE
BEGIN:VEVENT
DTSTART;TZID="Europe/Vienna":20180207T183000
DTEND;TZID="Europe/Vienna":20180207T203000
DTSTAMP:20260420T161611
CREATED:20180122T095950Z
LAST-MODIFIED:20180122T100142Z
UID:51803-1518028200-1518035400@www.strawanzerin.at
SUMMARY:Was bleibt von Bernie Sanders?
DESCRIPTION:Die USA und die US-Linke ein Jahr nach der Regierungsübernahme durch\nDonald Trump. \nWeltweit gibt es in den letzten Jahren einen Trend hin zu autoritärer\nwerdenden Regierungen. Gleichzeitig gibt es aber auch eine gegenläufige\nTendenz: linke PolitikerInnen\, schaffen das\, was vor ein paar Jahren\nnoch unvorstellbar war\, als Kristallisationspunkt für einen\nsolidarischen Pol der Gesellschaft zu dienen. Bernie Sanders ist dafür\nein Beispiel\, ist es ihm doch gelungen einer breiten Basisbewegung in\nden USA eine Stimme zu verleihen. \nAuch die US-Linke konnte von diesem unerwarteten Erfolg profitieren.\nParteien wie die Democratic Socialists of America (DSA) konnten in den\nletzten 3 Jahren ihre Mitgliederzahl versechsfachen. Das sozialistische\nJacobin-Magazin seine Auflage massiv steigern und so zum wichtigsten\nDiskussionsorgan der US-Linken aufsteigen. Sozialistische Positionen\nauch links von Bernie Sanders werden breit diskutiert. Der neoliberale\nBlock in der Demokratischen Partei ist in die Defensive geraten. \nWie ist die politische Situation in den USA ein Jahr nach Amtsantritt\nvon Donald Trump einzuschätzen? Was können wir als Linke in Österreich\nvon diesen Erfahrungen der US-Linken lernen? Welche Strategien brauchen\nwir zwischen „Wahlantritt“ und „außerparlamentarischer Bewegung“? Wie\nmüssen linke Organisationen aussehen\, um zu wachsen und junge\nAktivistInnen an sich zu binden? \nDiese Frage wollen wird mit Adam Baltner\, Mitglied der DSA und\nMitkoordinator des Jacobin-Lesekreises Wien\, diskutieren. \nWann? 7.Febraur\, 18.30 Uhr\nWo? Drechslergasse 42\, 1140 Wien\nWas? Was bleibt von Bernie Sanders? \nEine Veranstaltung der KPÖ Wien West in Kooperation mit Wien anders. \n
URL:https://www.strawanzerin.at/termin/was-bleibt-von-bernie-sanders/
LOCATION:KPÖ Wien\, Drechslergasse 42\, Wien\, Wien\, 1140\, Österreich
CATEGORIES:Deutsch,Englisch,Gratis,Soziale Kämpfe,Transnational,Vortrag/Symposium,Wien
ATTACH;FMTTYPE=image/jpeg:https://www.strawanzerin.at/wp-content/uploads/2018/01/Was-bleibt-von-Bernie_.jpg
GEO:48.1980706;16.3070151
X-APPLE-STRUCTURED-LOCATION;VALUE=URI;X-ADDRESS=KPÖ Wien Drechslergasse 42 Wien Wien 1140 Österreich;X-APPLE-RADIUS=500;X-TITLE=Drechslergasse 42:geo:16.3070151,48.1980706
END:VEVENT
END:VCALENDAR