BEGIN:VCALENDAR
VERSION:2.0
PRODID:-//STRAWANZERIN - ECPv4.9.5//NONSGML v1.0//EN
CALSCALE:GREGORIAN
METHOD:PUBLISH
X-WR-CALNAME:STRAWANZERIN
X-ORIGINAL-URL:https://www.strawanzerin.at
X-WR-CALDESC:Veranstaltungen im STRAWANZERIN
BEGIN:VTIMEZONE
TZID:"Europe/Helsinki"
BEGIN:DAYLIGHT
TZOFFSETFROM:+0200
TZOFFSETTO:+0300
TZNAME:EEST
DTSTART:20150329T010000
END:DAYLIGHT
BEGIN:STANDARD
TZOFFSETFROM:+0300
TZOFFSETTO:+0200
TZNAME:EET
DTSTART:20151025T010000
END:STANDARD
END:VTIMEZONE
BEGIN:VEVENT
DTSTART;TZID="Europe/Helsinki":20150425T193000
DTEND;TZID="Europe/Helsinki":20150425T210000
DTSTAMP:20260421T192154
CREATED:20150310T135246Z
LAST-MODIFIED:20150319T104413Z
UID:12220-1429990200-1429995600@www.strawanzerin.at
SUMMARY:WAS GESCHAH\, NACHDEM NORA IHREN MANN VERLASSEN HATTE ODER STÜTZEN DER GESELLSCHAFTEN
DESCRIPTION:von Elfriede Jelinek \nInszenierung: Ali M. Abdullah\nAusstattung: Renato Uz\nDramaturgie: Hannah Lioba Egenolf \nElfriede Jelineks sehr freie Fortschreibung von Henrik Ibsens bürgerlichem Beziehungsdra-ma setzt an dessen Schluss ein\, als Nora Mann und Kinder verlässt – und in ein selbstbe-stimmtes Leben aufbricht. Ihr Befreiungsversuch endet in einem bösen Reigen der Desillu-sionierung\, nachdem sie sich zum Spielball ökonomischer Interessen der Männergesell-schaft hat machen lassen. Jelineks erster Theatertext ist eine kritische Auseinandersetzung mit der feministischen Bewegung der 70er Jahre\, die die ökonomischen Zusammenhänge weiblicher Emanzipation ausblendet.\nIn ihrem Text revoltiert die Autorin gegen Bedeutung und Tiefe; das Subjekt\, ob männlich oder weiblich\, mächtig oder ohnmächtig\, wird austauschbar. Doch wohin steuern Elfriede Jelineks Figuren in einer Gesellschaft\, die verbindliche regulative Werte zunehmend unter das Diktat der Verwertbarkeit stellt? Erfahren bürgerlich-feudale Werte und Rollenmuster in der Kontrollgesellschaft eine vermeintlich freiwillige Renaissance? Unterwirft sich vor allem das weibliche Subjekt weiterhin archaischen Rollenbildern\, die freilich spätmodern lässig daherkommen? Ein theatraler Angriff auf wertekonforme Theorien und die Emanzi-pationsbewegung. Schonungslos\, obszön. \nMit: Katrin Grumeth\, Anita Gramser\, Dennis Cubic\, Marc Fischer\, Wir haben uns lieb bis eine heult (Verena Dürr & Ulla Rauter) \n
URL:https://www.strawanzerin.at/termin/was-geschah-nachdem-nora-ihren-mann-verlassen-hatte-oder-stuetzen-der-gesellschaften-4/
LOCATION:WERK X\, Oswaldgasse 35A\, Wien\, Wien\, 1120\, Österreich
CATEGORIES:Deutsch,Eintrittspreis,Theater/Kabarett,Wien
ATTACH;FMTTYPE=image/jpeg:https://www.strawanzerin.at/wp-content/uploads/2015/03/Nora33.jpg
ORGANIZER;CN="WERK%20X":MAILTO:buero@werk-x.at
GEO:48.1662859;16.3245824
X-APPLE-STRUCTURED-LOCATION;VALUE=URI;X-ADDRESS=WERK X Oswaldgasse 35A Wien Wien 1120 Österreich;X-APPLE-RADIUS=500;X-TITLE=Oswaldgasse 35A:geo:16.3245824,48.1662859
END:VEVENT
END:VCALENDAR