BEGIN:VCALENDAR
VERSION:2.0
PRODID:-//STRAWANZERIN - ECPv4.9.5//NONSGML v1.0//EN
CALSCALE:GREGORIAN
METHOD:PUBLISH
X-WR-CALNAME:STRAWANZERIN
X-ORIGINAL-URL:https://www.strawanzerin.at
X-WR-CALDESC:Veranstaltungen im STRAWANZERIN
BEGIN:VTIMEZONE
TZID:"Europe/Vienna"
BEGIN:DAYLIGHT
TZOFFSETFROM:+0100
TZOFFSETTO:+0200
TZNAME:CEST
DTSTART:20170326T010000
END:DAYLIGHT
BEGIN:STANDARD
TZOFFSETFROM:+0200
TZOFFSETTO:+0100
TZNAME:CET
DTSTART:20171029T010000
END:STANDARD
END:VTIMEZONE
BEGIN:VEVENT
DTSTART;TZID="Europe/Vienna":20171001T170000
DTEND;TZID="Europe/Vienna":20171006T200000
DTSTAMP:20260419T135751
CREATED:20170831T091638Z
LAST-MODIFIED:20170831T091638Z
UID:46337-1506877200-1507320000@www.strawanzerin.at
SUMMARY:Was ist „unsere Realität? in der Galerie Sandpeck Wien 8!
DESCRIPTION:Der Verein zur Förderung von Kunst\, Kultur und Wirtschaft\nFlorianigasse 75\, Ecke Uhlplatz zeigt Eric Legris:\nSPECTRAL EGO – EGO CONSTRUCTIVO – „Eine Weltanschauung“\nWas ist „unsere Realität?\nPrelude\nVernissage: Sonntag\, 01. Oktober 2017 um 17 Uhr\nAusstellung bis 06.10.2017 täglich von 14-19 Uhr\nfreier Eintritt! \nIn einer durchformatierten\, materialistischen\, ihre kollektive episteme (Michel Foucault) auslebenden Welt wird jede neuartige Vorstellung von der Welt systematisch von den „mentalen Konstrukten“ unseres Egos\, mithilfe derer wir die Welt ausloten\, zurückgewiesen oder angenommen: Denn unser Bewusstsein konstruiert die Welt.\nDieser Gedanke\, von Platon bis zu den Konstruktivistischen Erkenntnistheoretikern (J. Piaget u. a.) und der Neuen Physik geteilt\, führt uns zur immer selben Frage: Was ist Realität / unsere Realität?\nmehr: www.sandpeck.com \n
URL:https://www.strawanzerin.at/termin/was-ist-unsere-realitaet-in-der-galerie-sandpeck-wien-8/2017-10-01/
LOCATION:Galerie Sandpeck\, Österreich
CATEGORIES:Ausstellung,Deutsch,freie Spende,Kunst/Kultur,Wien
ATTACH;FMTTYPE=image/jpeg:https://www.strawanzerin.at/wp-content/uploads/2017/08/PR-legris.jpg
ORGANIZER;CN="Galerie%20Sandpeck%20Wien%208":MAILTO:christiane@sandpeck.com
GEO:47.516231;14.550072
END:VEVENT
END:VCALENDAR