BEGIN:VCALENDAR
VERSION:2.0
PRODID:-//STRAWANZERIN - ECPv4.9.5//NONSGML v1.0//EN
CALSCALE:GREGORIAN
METHOD:PUBLISH
X-WR-CALNAME:STRAWANZERIN
X-ORIGINAL-URL:https://www.strawanzerin.at
X-WR-CALDESC:Veranstaltungen im STRAWANZERIN
BEGIN:VTIMEZONE
TZID:"Europe/Vienna"
BEGIN:DAYLIGHT
TZOFFSETFROM:+0100
TZOFFSETTO:+0200
TZNAME:CEST
DTSTART:20240331T010000
END:DAYLIGHT
BEGIN:STANDARD
TZOFFSETFROM:+0200
TZOFFSETTO:+0100
TZNAME:CET
DTSTART:20241027T010000
END:STANDARD
END:VTIMEZONE
BEGIN:VEVENT
DTSTART;TZID="Europe/Vienna":20240229T180000
DTEND;TZID="Europe/Vienna":20240229T190000
DTSTAMP:20260422T032907
CREATED:20240209T133834Z
LAST-MODIFIED:20240209T133834Z
UID:96564-1709229600-1709233200@www.strawanzerin.at
SUMMARY:"Was verbirgt sich hinter einer Nahrungsmittelunverträglichkeit?"
DESCRIPTION:Vortrag von Univ. Prof. Dr. Zsolt Szepfalusi im Rahmen des Gesundheitstages der VHS polycollege zum Thema „Allergien und Unverträglichkeiten“ \nDie Teilnahme ist gratis. \nUm Anmeldung wird gebeten:\nE-Mail: kursanmeldung.polycollege@vhs.at\nTelefon: 01 891 74 105 000 \nMehr Informationen zum Gesundheitstag der VHS polycollege:\nhttps://www.vhs.at/de/e/polycollege/b/2024/01/30/allergien-tag-in-der-vhs-polycollege-stoebergasse \n
URL:https://www.strawanzerin.at/termin/was-verbirgt-sich-hinter-einer-nahrungsmittelunvertraeglichkeit/
LOCATION:VHS polycollege Stöbergasse\, Stöbergasse 11\, Wien\, 1050\, Österreich
CATEGORIES:Deutsch,Gesundheit,Gratis,Vortrag/Symposium,Wien
ORGANIZER;CN="VHS%20polycollege":MAILTO:kursanmeldung.polycollege@vhs.at
END:VEVENT
END:VCALENDAR