BEGIN:VCALENDAR
VERSION:2.0
PRODID:-//STRAWANZERIN - ECPv4.9.5//NONSGML v1.0//EN
CALSCALE:GREGORIAN
METHOD:PUBLISH
X-WR-CALNAME:STRAWANZERIN
X-ORIGINAL-URL:https://www.strawanzerin.at
X-WR-CALDESC:Veranstaltungen im STRAWANZERIN
BEGIN:VTIMEZONE
TZID:"Europe/Vienna"
BEGIN:DAYLIGHT
TZOFFSETFROM:+0100
TZOFFSETTO:+0200
TZNAME:CEST
DTSTART:20250330T010000
END:DAYLIGHT
BEGIN:STANDARD
TZOFFSETFROM:+0200
TZOFFSETTO:+0100
TZNAME:CET
DTSTART:20251026T010000
END:STANDARD
END:VTIMEZONE
BEGIN:VEVENT
DTSTART;TZID="Europe/Vienna":20251120T180000
DTEND;TZID="Europe/Vienna":20251120T220000
DTSTAMP:20260421T211327
CREATED:20251106T151901Z
LAST-MODIFIED:20251106T151901Z
UID:110845-1763661600-1763676000@www.strawanzerin.at
SUMMARY:Wasser Eh! Ausstellung in der Alten Schieberkammer
DESCRIPTION:Gruppenausstellung mit Malerei\, Bildhauerei\, Druckgrafik\, Installation\, Collage\, Performance. Mit Christa Bechtloff-Scherpe\, Helga Bongartz\, Elena H.\, Natasja Henke\, Ilse Hohensinner\, Beate Lang\, Ludwig\, Karin Medved und Luise Wascher.  \nVernissage am Donnerstag\, 20. 11. 2025\, 18:00-22:00 Uhr.  \nEröffnung Hartwig Knack\, Kunsthistoriker und Kulturwissenschaftler\nPerformance Elena H.  \n
URL:https://www.strawanzerin.at/termin/wasser-eh-ausstellung-in-der-alten-schieberkammer/
LOCATION:1150 Wien\, Alte Schieberkammer\, Meiselstraße 20\, Wien\, Wien\, 1150\, Österreich
CATEGORIES:Ausstellung,Kunst/Kultur
ATTACH;FMTTYPE=image/jpeg:https://www.strawanzerin.at/wp-content/uploads/2025/11/Wasser-Eh.jpg
ORGANIZER;CN="Gruppenausstellung%20Wasser%20Eh":MAILTO:luise.wascher@gmail.com
END:VEVENT
END:VCALENDAR