BEGIN:VCALENDAR
VERSION:2.0
PRODID:-//STRAWANZERIN - ECPv4.9.5//NONSGML v1.0//EN
CALSCALE:GREGORIAN
METHOD:PUBLISH
X-WR-CALNAME:STRAWANZERIN
X-ORIGINAL-URL:https://www.strawanzerin.at
X-WR-CALDESC:Veranstaltungen im STRAWANZERIN
BEGIN:VTIMEZONE
TZID:"Europe/Vienna"
BEGIN:DAYLIGHT
TZOFFSETFROM:+0100
TZOFFSETTO:+0200
TZNAME:CEST
DTSTART:20250330T010000
END:DAYLIGHT
BEGIN:STANDARD
TZOFFSETFROM:+0200
TZOFFSETTO:+0100
TZNAME:CET
DTSTART:20251026T010000
END:STANDARD
END:VTIMEZONE
BEGIN:VEVENT
DTSTART;TZID="Europe/Vienna":20250718T193000
DTEND;TZID="Europe/Vienna":20250718T210000
DTSTAMP:20260422T043118
CREATED:20250720T114301Z
LAST-MODIFIED:20250720T114301Z
UID:108522-1752867000-1752872400@www.strawanzerin.at
SUMMARY:WASTELAND dream/s
DESCRIPTION:Die Künstlerin Claudia Bosse lädt gemeinsam mit den Tänzer*innen Su Huber\, Lucia Mauri\, Carla Rihl\, Marcela San Pedro und Lena Schattenberg zu einem choreografischen Score als künstlerische Erkundung einer dritten Landschaft ein: der Brachfläche hinter dem Wiener Hauptbahnhof. \nSeit März 2025 ist diese Fläche Umgebung für Claudia Bosses performatives Projekt WASTELAND dream/s – a chronicle on choreographic ground. Im Dialog mit den wachsenden Veränderungen\, Künstler*innen\, Expert*innen\, Stadtbewohner*innen sowie mehr-als-menschlichen Akteur*innen erforscht sie in wiederholten Besuchen und performativen Formaten bis Ende September körperlich die Transformation und Fragilität urbaner Landschaften. \nAbschlussperformances: 24. bis 28. September mit WASTEland. \n
URL:https://www.strawanzerin.at/termin/wasteland-dream-s/
LOCATION:auf der urbanen Restfläche direkt hinter dem Hauptbahnhof Wien zwischen Karl-Popper-Straße und Alfred-Adler-Straße\, 1100 Wien
CATEGORIES:Barrierefrei,Gratis,Kunst/Kultur,Ökologie,Tanz,Wien
ATTACH;FMTTYPE=image/png:https://www.strawanzerin.at/wp-content/uploads/2025/07/WASTELAND-dreams_2025_ctheatercombinatclaudia-bosse_web.png
END:VEVENT
END:VCALENDAR