BEGIN:VCALENDAR
VERSION:2.0
PRODID:-//STRAWANZERIN - ECPv4.9.5//NONSGML v1.0//EN
CALSCALE:GREGORIAN
METHOD:PUBLISH
X-WR-CALNAME:STRAWANZERIN
X-ORIGINAL-URL:https://www.strawanzerin.at
X-WR-CALDESC:Veranstaltungen im STRAWANZERIN
BEGIN:VTIMEZONE
TZID:"Europe/Vienna"
BEGIN:DAYLIGHT
TZOFFSETFROM:+0100
TZOFFSETTO:+0200
TZNAME:CEST
DTSTART:20200329T010000
END:DAYLIGHT
BEGIN:STANDARD
TZOFFSETFROM:+0200
TZOFFSETTO:+0100
TZNAME:CET
DTSTART:20201025T010000
END:STANDARD
END:VTIMEZONE
BEGIN:VEVENT
DTSTART;TZID="Europe/Vienna":20200505T180000
DTEND;TZID="Europe/Vienna":20200505T193000
DTSTAMP:20260420T193126
CREATED:20200427T125532Z
LAST-MODIFIED:20200504T141712Z
UID:73424-1588701600-1588707000@www.strawanzerin.at
SUMMARY:Webinar: Farbe in der Fotografie
DESCRIPTION:Viele Amateurfotografen unterschätzen die Farben in ihrem Bild. Sie beeinflussen nicht nur Harmonien\, Emotionen und Stil in ihren Bildern\, sondern entscheiden über Top oder Flop.\nDas Wissen\, mit Farben richtig umzugehen und sie bewusst einzusetzten\, ist für Anfänger und Profis essentiell! Weißabgleich\, Filter\, Tonungen\, Schwarz-Weiß\, Künstliche Lichtquellen\, Einführung in Farbtheorie und Farbmanagement \n
URL:https://www.strawanzerin.at/termin/webinar-farbe-in-der-fotografie/
LOCATION:Online
CATEGORIES:Vortrag/Symposium
ORGANIZER;CN="Wiener%20Volkshochschulen":MAILTO:marketing@vhs.at
END:VEVENT
END:VCALENDAR