BEGIN:VCALENDAR
VERSION:2.0
PRODID:-//STRAWANZERIN - ECPv4.9.5//NONSGML v1.0//EN
CALSCALE:GREGORIAN
METHOD:PUBLISH
X-WR-CALNAME:STRAWANZERIN
X-ORIGINAL-URL:https://www.strawanzerin.at
X-WR-CALDESC:Veranstaltungen im STRAWANZERIN
BEGIN:VTIMEZONE
TZID:"Europe/Vienna"
BEGIN:DAYLIGHT
TZOFFSETFROM:+0100
TZOFFSETTO:+0200
TZNAME:CEST
DTSTART:20200329T010000
END:DAYLIGHT
BEGIN:STANDARD
TZOFFSETFROM:+0200
TZOFFSETTO:+0100
TZNAME:CET
DTSTART:20201025T010000
END:STANDARD
END:VTIMEZONE
BEGIN:VEVENT
DTSTART;TZID="Europe/Vienna":20200610T170000
DTEND;TZID="Europe/Vienna":20200610T183000
DTSTAMP:20260420T212734
CREATED:20200427T143335Z
LAST-MODIFIED:20200504T142352Z
UID:73456-1591808400-1591813800@www.strawanzerin.at
SUMMARY:Webinar: Modulreihe für Eltern (1) Schwerpunkt Optimales Zeitmanagement
DESCRIPTION:Sie sind Mutter oder Vater und kümmern sich während dieser Corona-Krisenzeit um Kind und Beruf? Diese Modul-Reihe soll dabei unterstützen\, den Herausforderungen mit mehr Gelassenheit und Ruhe bewältigen zu können.\nSchwerpunkt der heutigen Veranstaltung:·\nWie kann ich meinen neuen Alltag gut managen? Was hilft mir dabei\, Prioritäten zu setzen? Wie kann ich Kinder und Arbeit zeittechnisch gut vereinbaren? \n
URL:https://www.strawanzerin.at/termin/webinar-modulreihe-fuer-eltern-1-schwerpunkt-optimales-zeitmanagement/
LOCATION:Online
CATEGORIES:Vortrag/Symposium
ORGANIZER;CN="Wiener%20Volkshochschulen":MAILTO:marketing@vhs.at
END:VEVENT
END:VCALENDAR