BEGIN:VCALENDAR
VERSION:2.0
PRODID:-//STRAWANZERIN - ECPv4.9.5//NONSGML v1.0//EN
CALSCALE:GREGORIAN
METHOD:PUBLISH
X-WR-CALNAME:STRAWANZERIN
X-ORIGINAL-URL:https://www.strawanzerin.at
X-WR-CALDESC:Veranstaltungen im STRAWANZERIN
BEGIN:VTIMEZONE
TZID:"Europe/Vienna"
BEGIN:DAYLIGHT
TZOFFSETFROM:+0100
TZOFFSETTO:+0200
TZNAME:CEST
DTSTART:20220327T010000
END:DAYLIGHT
BEGIN:STANDARD
TZOFFSETFROM:+0200
TZOFFSETTO:+0100
TZNAME:CET
DTSTART:20221030T010000
END:STANDARD
END:VTIMEZONE
BEGIN:VEVENT
DTSTART;TZID="Europe/Vienna":20220407T193000
DTEND;TZID="Europe/Vienna":20220407T210000
DTSTAMP:20260422T003708
CREATED:20220302T114512Z
LAST-MODIFIED:20220302T114512Z
UID:82951-1649359800-1649365200@www.strawanzerin.at
SUMMARY:Weiberrat. Eine Machtergreifung
DESCRIPTION:– Ein Projekt von Nina Gühlstorff/AKA:NYX \n– Uraufführung \nInszenierung: Nina Gühlstorff\nBühne & Kostüm: Prisca Baumann\nMusik: CHRA\nDramaturgie: Hannah Lioba Egenolf\nRegieassistenz: Linda Fress\nBühnen- und Kostümassistenz: Monika Kovacevic\nMit: Julia Jelinek\, Lara Sienczak\, CHRA\, Dagmar Klopf\, Eva Laber\, Nadia Trallori\, Nicola Schößler\nFeminismus\, in bestimmten Kreisen Schimpfwort\, in anderen Mode\, im besten Fall gelebte Praxis.\nDas Theaterprojekt „Weiberrat“ zeichnet die frauenpolitischen Erfolge und Rückschläge ausgehend von der Frauenbewegung der 70er Jahre\, der sogenannten 2. Frauenbewegung\, nach. \nWir schauen auf die Erfolge\, die die Generation vor uns erkämpft hat und loten aus\, was davon übriggeblieben ist. Was waren ihre Forderungen\, haben diese sich erfüllt\, welche Strategien waren erfolgreich und vor allem: Was können wir heute lernen? Wir üben uns mit Ihnen in Wut. Wir schauen auf uns und die Zukunft unserer Kinder.\nUnd wir kommen mit unseren Fragen\, die manchmal dieselben sind\, die manchmal neu sind\, manchmal noch nicht zu Ende gedacht: Warum werden so viele kulturelle Kämpfe auf den Frauenkörpern ausgetragen? Unser Blick richtet sich aus dem Kampf gegen den Abtreibungsparagraphen der 70er auf das Polen von heute und das feministische Potential moderner Reproduktionsmedizin. \nWir fragen: Könnte es sein\, dass die Nutznießer*innen der politischen Kämpfe der 70er meistens in den besser gestellten Kreisen zu finden sind? Oder anders: Warum gibt es immer noch so viel schlecht oder nicht bezahlte Arbeit im Care-Bereich? Wo bleibt die Wut über die Ungerechtigkeit unserer Schwestern im Niedriglohnsektor?\nWir fragen nach konkreter Frauenpolitik von heute. Wir arbeiten lieber an der Abschaffung des Patriarchats als nach jedem Femizid in ritualisiertes Wundern auszubrechen. Wir schlagen neue Held*innen vor\, halten Weiberrat und stürzen das Patriarchat – und sei es nur für einen Tag. Aus Interviews mit den Grandes Dames der AUF\, Arbeiter*innen im Niedriglohnsektor\, jungen Feministinnen und Frauenaktivist*innen entsteht ein vielstimmiger Theaterabend am WERK X. \n
URL:https://www.strawanzerin.at/termin/weiberrat-eine-machtergreifung/2022-04-07/
LOCATION:WERK X\, Oswaldgasse 35A\, Wien\, Wien\, 1120\, Österreich
CATEGORIES:Theater/Kabarett
ATTACH;FMTTYPE=image/jpeg:https://www.strawanzerin.at/wp-content/uploads/2022/02/WerkX_2122_Web_750x500_Weiberrat-ohne-AT-1.jpg
ORGANIZER;CN="WERK%20X":MAILTO:buero@werk-x.at
GEO:48.1662859;16.3245824
X-APPLE-STRUCTURED-LOCATION;VALUE=URI;X-ADDRESS=WERK X Oswaldgasse 35A Wien Wien 1120 Österreich;X-APPLE-RADIUS=500;X-TITLE=Oswaldgasse 35A:geo:16.3245824,48.1662859
END:VEVENT
END:VCALENDAR