BEGIN:VCALENDAR
VERSION:2.0
PRODID:-//STRAWANZERIN - ECPv4.9.5//NONSGML v1.0//EN
CALSCALE:GREGORIAN
METHOD:PUBLISH
X-WR-CALNAME:STRAWANZERIN
X-ORIGINAL-URL:https://www.strawanzerin.at
X-WR-CALDESC:Veranstaltungen im STRAWANZERIN
BEGIN:VTIMEZONE
TZID:"Europe/Helsinki"
BEGIN:DAYLIGHT
TZOFFSETFROM:+0200
TZOFFSETTO:+0300
TZNAME:EEST
DTSTART:20160327T010000
END:DAYLIGHT
BEGIN:STANDARD
TZOFFSETFROM:+0300
TZOFFSETTO:+0200
TZNAME:EET
DTSTART:20161030T010000
END:STANDARD
END:VTIMEZONE
BEGIN:VEVENT
DTSTART;TZID="Europe/Helsinki":20161209T150000
DTEND;TZID="Europe/Helsinki":20161209T200000
DTSTAMP:20260423T174404
CREATED:20161123T151624Z
LAST-MODIFIED:20161125T113201Z
UID:37047-1481295600-1481313600@www.strawanzerin.at
SUMMARY:Weihnachtsmarkt der SelbermacherInnen
DESCRIPTION:•★.•*´¨`*•♥•★ Komm zum Weihnachts-Shopping ★•♥•*´¨`*•.★•  \nStation Wien organisiert auch heuer wieder den Weihnachtsmarkt der Selbermacher_innen im Amtshaus Margareten.  \nDich erwarten mit Liebe gemachte Produkte: Gestricktes\, Genähtes\, Gedrucktes\, Kreatives\, Eingekochtes und noch viel mehr. Alles ist ausschließlich selbst produziert! \nWir haben auch Kuchen\, Tee und Punsch zur Stärkung 🙂 \n¸¸.•*•.¸¸. Adventstimmung genießen und Geschenke kaufen! .¸¸.•*•.¸¸ \n
URL:https://www.strawanzerin.at/termin/weihnachtsmarkt-der-selbermacherinnen-2/
CATEGORIES:Deutsch,Flohmarkt,freie Spende,Kunst/Kultur,Wien
ATTACH;FMTTYPE=image/jpeg:https://www.strawanzerin.at/wp-content/uploads/2016/11/img_1747.jpeg
END:VEVENT
END:VCALENDAR