BEGIN:VCALENDAR
VERSION:2.0
PRODID:-//STRAWANZERIN - ECPv4.9.5//NONSGML v1.0//EN
CALSCALE:GREGORIAN
METHOD:PUBLISH
X-WR-CALNAME:STRAWANZERIN
X-ORIGINAL-URL:https://www.strawanzerin.at
X-WR-CALDESC:Veranstaltungen im STRAWANZERIN
BEGIN:VTIMEZONE
TZID:"Europe/Vienna"
BEGIN:DAYLIGHT
TZOFFSETFROM:+0100
TZOFFSETTO:+0200
TZNAME:CEST
DTSTART:20220327T010000
END:DAYLIGHT
BEGIN:STANDARD
TZOFFSETFROM:+0200
TZOFFSETTO:+0100
TZNAME:CET
DTSTART:20221030T010000
END:STANDARD
END:VTIMEZONE
BEGIN:VEVENT
DTSTART;TZID="Europe/Vienna":20221224T100000
DTEND;TZID="Europe/Vienna":20221224T130000
DTSTAMP:20260424T221629
CREATED:20221123T170918Z
LAST-MODIFIED:20221125T100744Z
UID:88003-1671876000-1671886800@www.strawanzerin.at
SUMMARY:Weihnachtszauber-Bastelkarussell für Kinder von 4 bis 12 Jahren
DESCRIPTION:So macht das Warten auf das Christkind Spaß! Vor der Bescherung am Samstag\, dem 24. Dezember 2022\, gibt es für Kinder im Heeresgeschichtlichen Museum von 10 bis 13 Uhr mehrere weihnachtliche Bastelstationen zu entdecken. Dabei können die kleinen Museumsgäste bei freiem Eintritt und Gratis-Teilnahme ihrer Kreativität freien Lauf lassen. Die selbst gemachte Bienenwachskerze\, das leckere Kekshäuschen und der traditionelle Christbaumschmuck dürfen anschließend mit nach Hause genommen werden.  \nHinweis: Das Museum schließt an diesem Tag um 14 Uhr  \nFoto/© Heeresgeschichtliches Museum Wien \n
URL:https://www.strawanzerin.at/termin/weihnachtszauber-bastelkarussell-fuer-kinder-von-4-bis-12-jahren/
LOCATION:Heeresgeschichtliches Museum\, Arsenal\, Wien\, Wien\, 1030\, Österreich
CATEGORIES:Ausstellung,bis 7,Kinderkultur,Wien
ATTACH;FMTTYPE=image/jpeg:https://www.strawanzerin.at/wp-content/uploads/2022/11/20171202_192522.jpg
GEO:48.1833104;16.3932274
X-APPLE-STRUCTURED-LOCATION;VALUE=URI;X-ADDRESS=Heeresgeschichtliches Museum Arsenal Wien Wien 1030 Österreich;X-APPLE-RADIUS=500;X-TITLE=Arsenal:geo:16.3932274,48.1833104
END:VEVENT
END:VCALENDAR