BEGIN:VCALENDAR
VERSION:2.0
PRODID:-//STRAWANZERIN - ECPv4.9.5//NONSGML v1.0//EN
CALSCALE:GREGORIAN
METHOD:PUBLISH
X-WR-CALNAME:STRAWANZERIN
X-ORIGINAL-URL:https://www.strawanzerin.at
X-WR-CALDESC:Veranstaltungen im STRAWANZERIN
BEGIN:VTIMEZONE
TZID:"Europe/Helsinki"
BEGIN:DAYLIGHT
TZOFFSETFROM:+0200
TZOFFSETTO:+0300
TZNAME:EEST
DTSTART:20160327T010000
END:DAYLIGHT
BEGIN:STANDARD
TZOFFSETFROM:+0300
TZOFFSETTO:+0200
TZNAME:EET
DTSTART:20161030T010000
END:STANDARD
END:VTIMEZONE
BEGIN:VEVENT
DTSTART;TZID="Europe/Helsinki":20161114T200000
DTEND;TZID="Europe/Helsinki":20161114T220000
DTSTAMP:20260421T190016
CREATED:20161027T171546Z
LAST-MODIFIED:20161027T171546Z
UID:35678-1479153600-1479160800@www.strawanzerin.at
SUMMARY:Weltflucht
DESCRIPTION:Die Flucht der großen Dichterin Else Lasker-Schüler vor den Nazis durch die halbe Welt bis nach Jerusalem.\nKraft und Ohnmacht der Poesie in einer von Terror erschütterten Welt. \nmit\nDagmar Schwarz als Else Lasker-Schüler\nLeitung: Hagnot Elischka\nMusik: Horst Hausleitner \n
URL:https://www.strawanzerin.at/termin/weltflucht/2016-11-14/
CATEGORIES:ab 7,Antirassimus,Deutsch,Theater/Kabarett,Wien
ATTACH;FMTTYPE=image/jpeg:https://www.strawanzerin.at/wp-content/uploads/2016/10/Weltflucht_Grafik.jpg
ORGANIZER;CN="Weltflucht":MAILTO:d.m.schwarz@aon.at
END:VEVENT
END:VCALENDAR