BEGIN:VCALENDAR
VERSION:2.0
PRODID:-//STRAWANZERIN - ECPv4.9.5//NONSGML v1.0//EN
CALSCALE:GREGORIAN
METHOD:PUBLISH
X-WR-CALNAME:STRAWANZERIN
X-ORIGINAL-URL:https://www.strawanzerin.at
X-WR-CALDESC:Veranstaltungen im STRAWANZERIN
BEGIN:VTIMEZONE
TZID:"Europe/Vienna"
BEGIN:DAYLIGHT
TZOFFSETFROM:+0100
TZOFFSETTO:+0200
TZNAME:CEST
DTSTART:20220327T010000
END:DAYLIGHT
BEGIN:STANDARD
TZOFFSETFROM:+0200
TZOFFSETTO:+0100
TZNAME:CET
DTSTART:20221030T010000
END:STANDARD
END:VTIMEZONE
BEGIN:VEVENT
DTSTART;TZID="Europe/Vienna":20220620T190000
DTEND;TZID="Europe/Vienna":20220620T220000
DTSTAMP:20260419T183446
CREATED:20220528T101457Z
LAST-MODIFIED:20220530T110216Z
UID:85114-1655751600-1655762400@www.strawanzerin.at
SUMMARY:Weltflüchtlingstag: "THE GAME" - Filmvorführung\, Diskussion\, Musik\, Performance
DESCRIPTION:Mit dieser Veranstaltung wird auf die weltweiten Krisen aufmerksam gemacht\, die Menschen zur Flucht zwingen und aufgezeigt\, wie sich die Lage entlang der sogenannten „Balkanroute“ immer weiter verschärft. Seit dem Beginn des russischen Angriffskrieges in der Ukraine ist eine Welle der Hilfsbereitschaft auch in Kärnten/ Koroška zu beobachten\, gleichzeitig verstärkt sich jedoch in Teilen der Bevölkerung auch eine problematische Haltung\, durch die hilfesuchende Menschen in gute und schlechte\, willkommene und unwillkommene\, legale und illegale Menschen unterteilt werden. \nZiel ist es\, die Menschen zur Solidarität mit allen schutzsuchenden Menschen zu ermuntern\, einen Raum zur Diskussion und Reflexion der eigenen Haltung zu eröffnen und zu einer Sensibilisierung dafür beizutragen\, dass die Menschenrechte immer für alle Menschen gültig sind. \nPROGRAMM\n19:00 Uhr: Interkulturelle Musik von der persischen Solband\n19:30 Uhr: Filmvorführung „The Game. Spiel zwischen Leben und Tod“\n21:00 Uhr: Performance „Balkanroute“ von Barbara Ambrusch-Rapp\n21:15 Uhr: Diskussion mit Zehida Bihorac (Protagonistin des Films und Flüchtlingshelferin in Bosnien und Herzegovina) Babak Solemani (Flüchtlingshelfer und ehemaliger Flüchtling)\, Carla Küffner (Plattform Migration)\, Martin Diendorfer (Kärnten andas)\, Caroline Schmitt (AAU); Moderation: Bettina Pirker\, Branka Jovanović. \nEintritt: frei!\nOrt: VENTIL (Kardinalplatz 1 / Fleischbankgasse 8\, Klagenfurt / Celovec) \nINFO zum Film\nAn der bosnisch-kroatischen Grenze dreht sich alles um THE GAME\, den illegalen Gang über die EU-Außengrenze. An diesem Spiel nehmen nicht nur junge Männer\, sondern ganze Familien teil. Manuela und Bernd\, zwei Flüchtlingshelfer:innen aus Bayern\, möchten helfen und erkennen schnell\, dass bei diesem Spiel auch Schlepper\, die Polizei\, internationale Organisationen und viele weitere Spieler mitmischen. Nach und nach lernen die beiden die Spieler kennen und werden selbst Teil des GAMES. \nProduktion: grey & yellow Filmproduktion / Salzburg\nRegie: Manuela Federl\nKamera: Jens Börner\, Oliver Indra\, Muhammad Pehlic\nTon: Jeannine Felzmann\nSchnitt: Simon Tasek\nFilmmusik: Kim Planert\nGrafiken: Gerhard Buchegger\nAudiomischung: Bernhard Lohner\nColorgrading: Alexander Vexler \n
URL:https://www.strawanzerin.at/termin/weltfluechtlingstag-the-game-filmvorfuehrung-diskussion-musik-performance/
LOCATION:VENTIL\, Kardinalplatz 1\, Klagenfurt am Wörthersee\, Kärnten\, 9020\, Österreich
CATEGORIES:Antirassimus,Film,Kärnten/Koroška,Kunst/Kultur,Vortrag/Symposium
ATTACH;FMTTYPE=image/jpeg:https://www.strawanzerin.at/wp-content/uploads/2022/05/FB-sujet-quer.jpg
ORGANIZER;CN="K%C3%A4rnten%20andas":MAILTO:kaernten@andas.jetzt
END:VEVENT
END:VCALENDAR