BEGIN:VCALENDAR
VERSION:2.0
PRODID:-//STRAWANZERIN - ECPv4.9.5//NONSGML v1.0//EN
CALSCALE:GREGORIAN
METHOD:PUBLISH
X-WR-CALNAME:STRAWANZERIN
X-ORIGINAL-URL:https://www.strawanzerin.at
X-WR-CALDESC:Veranstaltungen im STRAWANZERIN
BEGIN:VTIMEZONE
TZID:"Europe/Vienna"
BEGIN:DAYLIGHT
TZOFFSETFROM:+0100
TZOFFSETTO:+0200
TZNAME:CEST
DTSTART:20180325T010000
END:DAYLIGHT
BEGIN:STANDARD
TZOFFSETFROM:+0200
TZOFFSETTO:+0100
TZNAME:CET
DTSTART:20181028T010000
END:STANDARD
END:VTIMEZONE
BEGIN:VEVENT
DTSTART;TZID="Europe/Vienna":20180320T190000
DTEND;TZID="Europe/Vienna":20180320T210000
DTSTAMP:20260421T230156
CREATED:20180222T214814Z
LAST-MODIFIED:20180228T084059Z
UID:52712-1521572400-1521579600@www.strawanzerin.at
SUMMARY:Weltgeschichtentag im Weltladen
DESCRIPTION:Auf der ganzen Welt werden am 20. März Geschichten erzählt. Der Weltladen feiert den „World Storytelling Day“ mit Märchen und Musik. Josef Mitschan erzählt Geschichten aus fernen Ländern in der Mundart seiner Mühlviertler Herkunft. Gerhard Rosner\, geboren in Wien\, spielt Tabla\, eine Doppeltrommel aus Nordindien\, als hätten seine Hände nie etwas anderes gekannt.\nEs geht um „Weise Narren“ – die Welt ist voll von weisen Narren!\nEintritt frei! Spenden willkommen. \n
URL:https://www.strawanzerin.at/termin/weltgeschichtentag-im-weltladen/
LOCATION:Weltladen Lerchenfelderstraße\, Lerchenfelderstraße 18-24\, Wien\, Wien\, 1080\, Österreich
CATEGORIES:freie Spende,Kunst/Kultur,Literatur
ATTACH;FMTTYPE=image/gif:https://www.strawanzerin.at/wp-content/uploads/2018/02/Weltgeschichtentag-Logo.gif
GEO:48.2065042;16.3516397
X-APPLE-STRUCTURED-LOCATION;VALUE=URI;X-ADDRESS=Weltladen Lerchenfelderstraße Lerchenfelderstraße 18-24 Wien Wien 1080 Österreich;X-APPLE-RADIUS=500;X-TITLE=Lerchenfelderstraße 18-24:geo:16.3516397,48.2065042
END:VEVENT
END:VCALENDAR