BEGIN:VCALENDAR
VERSION:2.0
PRODID:-//STRAWANZERIN - ECPv4.9.5//NONSGML v1.0//EN
CALSCALE:GREGORIAN
METHOD:PUBLISH
X-WR-CALNAME:STRAWANZERIN
X-ORIGINAL-URL:https://www.strawanzerin.at
X-WR-CALDESC:Veranstaltungen im STRAWANZERIN
BEGIN:VTIMEZONE
TZID:"Europe/Vienna"
BEGIN:DAYLIGHT
TZOFFSETFROM:+0100
TZOFFSETTO:+0200
TZNAME:CEST
DTSTART:20250330T010000
END:DAYLIGHT
BEGIN:STANDARD
TZOFFSETFROM:+0200
TZOFFSETTO:+0100
TZNAME:CET
DTSTART:20251026T010000
END:STANDARD
END:VTIMEZONE
BEGIN:VEVENT
DTSTART;TZID="Europe/Vienna":20250610T190000
DTEND;TZID="Europe/Vienna":20250610T223000
DTSTAMP:20260419T164434
CREATED:20250508T114001Z
LAST-MODIFIED:20250508T114001Z
UID:107720-1749582000-1749594600@www.strawanzerin.at
SUMMARY:Wem gehört´s und wer entscheidet? Die Rückkehr der Eigentumsfrage
DESCRIPTION:Im Rahmen der Gesprächsreihe “Die neue Zeit kommt nicht von allein”\nSabine Nuss im Gespräch mit Lisa Mittendrein\nElon Musk ist nur die Spitze des Eisbergs. Die reichsten Männer der Welt kontrollieren Unternehmen\, Medien und zumindest Teile der Politik. Wieso sind sie es\, die entscheiden\, was wir produzieren\, zu welchen Bedingungen wir arbeiten und wieviel Öl und Gas noch verbrannt wird? Ist die Zeit für Enteignungen gekommen?\nMit Sabine Nuss spricht Lisa Mittendrein über das Problem mit dem Privateigentum und darüber\, warum wir so lange nicht mehr über Eigentumsverhältnisse gesprochen haben. Was heißt Vergesellschaftung – und wie kommen wir da hin?\nSabine Nuss ist Politologin und freie Autorin. Ihr neuestes Buch trägt den Titel „Wessen Freiheit\, welche Gleichheit? Das Versprechen einer anderen Vergesellschaftung”\nBeginn 19:00 Uhr\, Einlass 18:30 Uhr\nEintritt: freie Spende. Wir bitten um Anmeldung. \n
URL:https://www.strawanzerin.at/termin/wem-gehoerts-und-wer-entscheidet-die-rueckkehr-der-eigentumsfrage/
LOCATION:FLUCC\, Praterstern 5\, Wien\, Wien\, 1020\, Österreich
CATEGORIES:freie Spende
ATTACH;FMTTYPE=image/jpeg:https://www.strawanzerin.at/wp-content/uploads/2025/05/Sabine_Lisa_orange_2-scaled.jpg
ORGANIZER;CN="Attac":MAILTO:infos@attac.at
END:VEVENT
END:VCALENDAR