BEGIN:VCALENDAR
VERSION:2.0
PRODID:-//STRAWANZERIN - ECPv4.9.5//NONSGML v1.0//EN
CALSCALE:GREGORIAN
METHOD:PUBLISH
X-WR-CALNAME:STRAWANZERIN
X-ORIGINAL-URL:https://www.strawanzerin.at
X-WR-CALDESC:Veranstaltungen im STRAWANZERIN
BEGIN:VTIMEZONE
TZID:"Europe/Vienna"
BEGIN:DAYLIGHT
TZOFFSETFROM:+0100
TZOFFSETTO:+0200
TZNAME:CEST
DTSTART:20210328T010000
END:DAYLIGHT
BEGIN:STANDARD
TZOFFSETFROM:+0200
TZOFFSETTO:+0100
TZNAME:CET
DTSTART:20211031T010000
END:STANDARD
END:VTIMEZONE
BEGIN:VEVENT
DTSTART;TZID="Europe/Vienna":20211105T200000
DTEND;TZID="Europe/Vienna":20211105T220000
DTSTAMP:20260421T224329
CREATED:20210914T112943Z
LAST-MODIFIED:20210914T112943Z
UID:80343-1636142400-1636149600@www.strawanzerin.at
SUMMARY:WER HAT ANGST VOR VIRGINIA WOOLF?
DESCRIPTION:Zwei Ehepaare lassen einen Abend zu Hause bei einer Afterparty gemeinsam ausklingen und geraten in einen Strudel aus gegenseitigen Demütigungen und der Aufdeckung von Lebenslügen. Albees Klassiker ist eine zeitlose Versuchsanordnung menschlicher Beziehungen unter Zuhilfenahme von Alkohol vor dem Hintergrund jahrelanger persönlicher und gesellschaftlicher Frustration. \nEr kontrastiert mit den Umgangsformen seiner Figuren dabei scharf die üblichen Regeln des zwischenmenschlichen Miteinanders. Dieses Spannungsfelds interessiert Susanne Lietzow bei der Überprüfung des Stücks auf die heutigen Gegebenheiten. Ein Theaterabend als Ehe-Performance\, ein Parcours der Bitterkeit – und ein wahres Schauspieler*innen-Fressen. \nEuropäische Theaternacht (pay as you wish):\nSamstag 20. November 2021\, 21.30 \n
URL:https://www.strawanzerin.at/termin/wer-hat-angst-vor-virginia-woolf-2/2021-11-05/
LOCATION:TAG – Theater an der Gumpendorfer Straße\, Gumpendorfer Straße 67\, Wien\, Wien\, 1060\, Österreich
CATEGORIES:Theater/Kabarett,Wien
ATTACH;FMTTYPE=image/jpeg:https://www.strawanzerin.at/wp-content/uploads/2021/09/TAG_Virginia_Woolf_c_Anna_Stocher-quer_web-scaled.jpg
ORGANIZER;CN="TAG%20-%20Theater%20an%20der%20Gumpendorfer%20Stra%C3%9Fe":MAILTO:karten@dastag.at
GEO:48.1954875;16.3512933
X-APPLE-STRUCTURED-LOCATION;VALUE=URI;X-ADDRESS=TAG – Theater an der Gumpendorfer Straße Gumpendorfer Straße 67 Wien Wien 1060 Österreich;X-APPLE-RADIUS=500;X-TITLE=Gumpendorfer Straße 67:geo:16.3512933,48.1954875
END:VEVENT
END:VCALENDAR