BEGIN:VCALENDAR
VERSION:2.0
PRODID:-//STRAWANZERIN - ECPv4.9.5//NONSGML v1.0//EN
CALSCALE:GREGORIAN
METHOD:PUBLISH
X-WR-CALNAME:STRAWANZERIN
X-ORIGINAL-URL:https://www.strawanzerin.at
X-WR-CALDESC:Veranstaltungen im STRAWANZERIN
BEGIN:VTIMEZONE
TZID:"Europe/Helsinki"
BEGIN:DAYLIGHT
TZOFFSETFROM:+0200
TZOFFSETTO:+0300
TZNAME:EEST
DTSTART:20140330T010000
END:DAYLIGHT
BEGIN:STANDARD
TZOFFSETFROM:+0300
TZOFFSETTO:+0200
TZNAME:EET
DTSTART:20141026T010000
END:STANDARD
END:VTIMEZONE
BEGIN:VEVENT
DTSTART;TZID="Europe/Helsinki":20141202T170000
DTEND;TZID="Europe/Helsinki":20141202T210000
DTSTAMP:20260423T160418
CREATED:20141130T193932Z
LAST-MODIFIED:20141210T155533Z
UID:9253-1417539600-1417554000@www.strawanzerin.at
SUMMARY:Wer hat noch alTe tassen im Schrank?
DESCRIPTION:Altes\, noch intaktes Geschirr mitbringen\, mit lustigen oder weisen Sprüchen\, netten und interessanten Mustern oder auch Malereien versehen und entweder zu Weihnachten verschenken oder selber behalten. \nFür die Füllung machen wir leckere vegane Schokokugeln! \nName des/der WorkshopleiterIn: Esther Engel\nKostenbeitrag: €25 / Mitglieder €20 (inklusive Farben und Zutaten \nAnmeldung unter(e-Mail und/oder Telefon): eengel@gmx.at oder 06606 505 722 \n
URL:https://www.strawanzerin.at/termin/wer-hat-noch-alte-tassen-im-schrank/
LOCATION:Recycling Kosmos Zentrale\, Ottakringer Straße 63\, Wien\, Wien\, 1160\, Österreich
CATEGORIES:ab 7,Deutsch,Sonstiges,Wien,Workshop
ATTACH;FMTTYPE=image/jpeg:https://www.strawanzerin.at/wp-content/uploads/2014/11/Porzellan.jpg
ORGANIZER;CN="Recycling%20Kosmos":MAILTO:workshops@recyclingkosmos.at
GEO:48.2137812;16.3298013
X-APPLE-STRUCTURED-LOCATION;VALUE=URI;X-ADDRESS=Recycling Kosmos Zentrale Ottakringer Straße 63 Wien Wien 1160 Österreich;X-APPLE-RADIUS=500;X-TITLE=Ottakringer Straße 63:geo:16.3298013,48.2137812
END:VEVENT
END:VCALENDAR