BEGIN:VCALENDAR
VERSION:2.0
PRODID:-//STRAWANZERIN - ECPv4.9.5//NONSGML v1.0//EN
CALSCALE:GREGORIAN
METHOD:PUBLISH
X-WR-CALNAME:STRAWANZERIN
X-ORIGINAL-URL:https://www.strawanzerin.at
X-WR-CALDESC:Veranstaltungen im STRAWANZERIN
BEGIN:VTIMEZONE
TZID:"Europe/Vienna"
BEGIN:DAYLIGHT
TZOFFSETFROM:+0100
TZOFFSETTO:+0200
TZNAME:CEST
DTSTART:20180325T010000
END:DAYLIGHT
BEGIN:STANDARD
TZOFFSETFROM:+0200
TZOFFSETTO:+0100
TZNAME:CET
DTSTART:20181028T010000
END:STANDARD
END:VTIMEZONE
BEGIN:VEVENT
DTSTART;TZID="Europe/Vienna":20180228T190000
DTEND;TZID="Europe/Vienna":20180228T213000
DTSTAMP:20260421T123151
CREATED:20180111T142906Z
LAST-MODIFIED:20180115T085407Z
UID:51548-1519844400-1519853400@www.strawanzerin.at
SUMMARY:Wer macht die Normen? Ein internationaler Vergleich
DESCRIPTION:In der Frühzeit der Normung beschäftigten sich Normen mit rein technischen Fragen\, heute greifen sie in nahezu alle Lebensbereiche ein. \nObwohl ihre Anwendung grundsätzlich freiwillig sein sollte\, erlangen sie oft direkt durch Verweise in Gesetzen oder indirekt vor allem im Zuge von Rechtsstreitigkeiten Verbindlichkeit. Demokratiepolitisch ist das bedenklich\, weil Normierungsprozesse nicht den Anforderungen an Gesetzgebungsverfahren entsprechen. Es stellt sich die Frage\, von wem gesellschaftspolitisch höchst relevante Abwägungen im Interesse der Allgemeinheit vorgenommen werden sollten: vom demokratisch legitimierten Parlament\, von privatwirtschaftlichen Institutionen oder von Interessensvereinigungen? Wie zeigt sich die Situation im Vergleich zwischen Österreich\, Deutschland und der Schweiz und kann das „neue“ österreichische Normengesetz diese Situation verbessern? \nGäste:\nChristian Aulinger\, Präsident der Bundeskammer der ZiviltechnikerInnen\nKonrad Lachmayer\, Professor für Öffentliches Recht an der Sigmund Freud PrivatUniversität (SFU) in Wien\nMartin Müller\, Vizepräsident der Bundesarchitektenkammer in Deutschland\, BAK\nElisabeth Stampfl Blaha\, Direktorin Austrian Standards Institute\nModeration: Matthias Finkentey\, Organisatorischer Leiter\, IG Architektur \n
URL:https://www.strawanzerin.at/termin/wer-macht-die-normen-ein-internationaler-vergleich/
LOCATION:Architekturzentrum Wien\, Museumsplatz 1\, Wien\, Wien\, 1200\, Österreich
CATEGORIES:Vortrag/Symposium
ATTACH;FMTTYPE=image/jpeg:https://www.strawanzerin.at/wp-content/uploads/2018/01/Geländer.jpg
GEO:48.2034986;16.3591175
X-APPLE-STRUCTURED-LOCATION;VALUE=URI;X-ADDRESS=Architekturzentrum Wien Museumsplatz 1 Wien Wien 1200 Österreich;X-APPLE-RADIUS=500;X-TITLE=Museumsplatz 1:geo:16.3591175,48.2034986
END:VEVENT
END:VCALENDAR