BEGIN:VCALENDAR
VERSION:2.0
PRODID:-//STRAWANZERIN - ECPv4.9.5//NONSGML v1.0//EN
CALSCALE:GREGORIAN
METHOD:PUBLISH
X-WR-CALNAME:STRAWANZERIN
X-ORIGINAL-URL:https://www.strawanzerin.at
X-WR-CALDESC:Veranstaltungen im STRAWANZERIN
BEGIN:VTIMEZONE
TZID:"Europe/Helsinki"
BEGIN:DAYLIGHT
TZOFFSETFROM:+0200
TZOFFSETTO:+0300
TZNAME:EEST
DTSTART:20160327T010000
END:DAYLIGHT
BEGIN:STANDARD
TZOFFSETFROM:+0300
TZOFFSETTO:+0200
TZNAME:EET
DTSTART:20161030T010000
END:STANDARD
END:VTIMEZONE
BEGIN:VEVENT
DTSTART;TZID="Europe/Helsinki":20160620T190000
DTEND;TZID="Europe/Helsinki":20160620T210000
DTSTAMP:20260421T230134
CREATED:20160531T121544Z
LAST-MODIFIED:20160531T121544Z
UID:29828-1466449200-1466456400@www.strawanzerin.at
SUMMARY:"Wer sein Kind liebt..."
DESCRIPTION:Ein Abend mit der Diplom-Psychologin Franziska Klinkigt und dem Philosophen Bertrand Stern. \nWelche Gestaltung finden wir für Beziehungen zu heranwachsenden Menschen\, wenn sie von\nLiebe geprägt sind? Und welche\, wenn diese Liebe durch Angst getrübt ist? Wir nehmen wahr\,\ndass die vielfältigen Formen von offener und heimlicher Gewalt gegenüber jungen Menschen\nmeist auf Angst beruhen. Mit Sorge beobachten wir den Umgang mit dem Thema zwischen-\ngenerationeller Gewalt in unserer Gesellschaft und den Umgang mit Heranwachsenden\nüberhaupt! Welche Folgen hat das Bekenntnis zur Liebe für die Frage der sogenannten\nErziehung\, der Bildung sowie der ganzen Lebensgestaltung? \n
URL:https://www.strawanzerin.at/termin/wer-sein-kind-liebt/
CATEGORIES:Bildung,Deutsch,Eintrittspreis,Vortrag/Symposium,Wien
ATTACH;FMTTYPE=image/jpeg:https://www.strawanzerin.at/wp-content/uploads/2016/05/Foto-Stern_Klinkigt-Vortrag.jpg
ORGANIZER;CN="Verein%20Netzwerk%20der%20Freilerner":MAILTO:veranstaltungen@freilerner.at
END:VEVENT
END:VCALENDAR