BEGIN:VCALENDAR
VERSION:2.0
PRODID:-//STRAWANZERIN - ECPv4.9.5//NONSGML v1.0//EN
CALSCALE:GREGORIAN
METHOD:PUBLISH
X-WR-CALNAME:STRAWANZERIN
X-ORIGINAL-URL:https://www.strawanzerin.at
X-WR-CALDESC:Veranstaltungen im STRAWANZERIN
BEGIN:VTIMEZONE
TZID:"Europe/Vienna"
BEGIN:DAYLIGHT
TZOFFSETFROM:+0100
TZOFFSETTO:+0200
TZNAME:CEST
DTSTART:20250330T010000
END:DAYLIGHT
BEGIN:STANDARD
TZOFFSETFROM:+0200
TZOFFSETTO:+0100
TZNAME:CET
DTSTART:20251026T010000
END:STANDARD
END:VTIMEZONE
BEGIN:VEVENT
DTSTART;TZID="Europe/Vienna":20250128T200000
DTEND;TZID="Europe/Vienna":20250128T213000
DTSTAMP:20260420T233605
CREATED:20241213T120629Z
LAST-MODIFIED:20241213T120629Z
UID:105144-1738094400-1738099800@www.strawanzerin.at
SUMMARY:WERISTdICHTER?
DESCRIPTION:Geburtstagsspecial! WERISTdICHTER? wird acht! \nWenn der strahlende Zauber von WERISTdICHTER? durch das Kosmos Theater weht\, quellen unsere wilden Herzchen nur so über vor lauter Liebe und Glückseligkeit. Ein Genre-Mix der Extraklasse\, der das quietschbunte Potenzial von Kunst bis zum Anschlag ausschöpft. Ein elektrisierender Trip in glitzernde Dada-Sphären\, nach dem nichts mehr so sein wird\, wie es vorher war. \n
URL:https://www.strawanzerin.at/termin/weristdichter/
LOCATION:Kosmos Theater Wien\, Siebensterngasse 42-44\, Wien\, Wien\, 1070\, Österreich
ORGANIZER;CN="Kosmos%20Theater%20Wien":MAILTO:office@kosmostheater.at
GEO:48.2023536;16.3513259
X-APPLE-STRUCTURED-LOCATION;VALUE=URI;X-ADDRESS=Kosmos Theater Wien Siebensterngasse 42-44 Wien Wien 1070 Österreich;X-APPLE-RADIUS=500;X-TITLE=Siebensterngasse 42-44:geo:16.3513259,48.2023536
END:VEVENT
END:VCALENDAR