BEGIN:VCALENDAR
VERSION:2.0
PRODID:-//STRAWANZERIN - ECPv4.9.5//NONSGML v1.0//EN
CALSCALE:GREGORIAN
METHOD:PUBLISH
X-WR-CALNAME:STRAWANZERIN
X-ORIGINAL-URL:https://www.strawanzerin.at
X-WR-CALDESC:Veranstaltungen im STRAWANZERIN
BEGIN:VTIMEZONE
TZID:"Europe/Vienna"
BEGIN:DAYLIGHT
TZOFFSETFROM:+0100
TZOFFSETTO:+0200
TZNAME:CEST
DTSTART:20250330T010000
END:DAYLIGHT
BEGIN:STANDARD
TZOFFSETFROM:+0200
TZOFFSETTO:+0100
TZNAME:CET
DTSTART:20251026T010000
END:STANDARD
END:VTIMEZONE
BEGIN:VEVENT
DTSTART;TZID="Europe/Vienna":20251211T180000
DTEND;TZID="Europe/Vienna":20251211T193000
DTSTAMP:20260423T180839
CREATED:20251204T102216Z
LAST-MODIFIED:20251204T102216Z
UID:111365-1765476000-1765481400@www.strawanzerin.at
SUMMARY:What Was Christian Democracy? Jan Patočka Memorial Lecture
DESCRIPTION:Christian democracy has played a fundamental role in shaping European politics after World War II. In his lecture\, Jan-Werner Müller will explore the historical developments leading to the formation of this ideology that reconciles Catholicism and modern democracy\, focusing on a number of philosophers and political figures. Müller will pose the question if anything remains of Christian democracy today; he will also ask how two recent strands of thought—on the one hand\, populism; on the other\, the ideologies usually grouped under the label of “post-liberalism”—relate to Christian democracy\, whose legacy is claimed by representatives of both strands. \nJan-Werner Müller is Roger Williams Straus Professor of Social Sciences at Princeton University\, where he also leads the Program in Political Philosophy. From 1996 until 2003\, he was a fellow at the University of Oxford’s All Souls College\, before moving to St. Antony’s College\, where he held a fellowship at the European Studies Centre until 2005. Müller is also co-founder of the European College of Liberal Arts (ECLA) in Berlin\, for which he served as founding research director. His recent publications include What Is Populism? (University of Pennsylvania Press\, 2016)\, Furcht und Freiheit: Für einen anderen Liberalismus (Suhrkamp Verlag\, 2019)\, and Democracy Rules (Farrar Straus & Giroux\, 2021). His public affairs commentary and essays have appeared in the London Review of Books\, The New York Review of Books\, Foreign Affairs\, The Guardian\, The New York Times\, and Project Syndicate. \nLudger Hagedorn\, IWM Permanent Fellow\, will moderate the lecture. \nWelcome by IWM Rector Misha Glenny \nRegister here: https://www.iwm.at/event/what-was-christian-democracy \n
URL:https://www.strawanzerin.at/termin/what-was-christian-democracy-jan-patocka-memorial-lecture/
LOCATION:Institut für die Wissenschaften vom Menschen (IWM)\, Spittelauer Lände 3\, Wien\, Wien\, 1090\, Österreich
CATEGORIES:Vortrag/Symposium
ATTACH;FMTTYPE=image/jpeg:https://www.strawanzerin.at/wp-content/uploads/2025/11/RS1089_IWM-Image-Print-9_lpr.jpg
END:VEVENT
END:VCALENDAR