BEGIN:VCALENDAR
VERSION:2.0
PRODID:-//STRAWANZERIN - ECPv4.9.5//NONSGML v1.0//EN
CALSCALE:GREGORIAN
METHOD:PUBLISH
X-WR-CALNAME:STRAWANZERIN
X-ORIGINAL-URL:https://www.strawanzerin.at
X-WR-CALDESC:Veranstaltungen im STRAWANZERIN
BEGIN:VTIMEZONE
TZID:"Europe/Helsinki"
BEGIN:DAYLIGHT
TZOFFSETFROM:+0200
TZOFFSETTO:+0300
TZNAME:EEST
DTSTART:20140330T010000
END:DAYLIGHT
BEGIN:STANDARD
TZOFFSETFROM:+0300
TZOFFSETTO:+0200
TZNAME:EET
DTSTART:20141026T010000
END:STANDARD
END:VTIMEZONE
BEGIN:VEVENT
DTSTART;TZID="Europe/Helsinki":20140505T200000
DTEND;TZID="Europe/Helsinki":20140603T220000
DTSTAMP:20260420T113523
CREATED:20140513T090211Z
LAST-MODIFIED:20140513T090245Z
UID:1018-1399320000-1401832800@www.strawanzerin.at
SUMMARY:Where are we now?
DESCRIPTION:PREMIERE: 5. Mai 2014\, 20.00 TERMINE: Fr 9.\, Sa 10.\, Di 27.\, Mi 28.\, Fr 30. + Sa 31. Mai 2014\, 20.00 Mo 2. + Di 3. Juni 2014 \n„Alle unsere Mitarbeiter müssen schön sein\, damit wir ihre Porträts veröffentlichen können.“ René Magritte Das Bild „Lovers“ des Surrealisten René Magritte zählt zu den bekanntesten Gemälden des 20. Jahrhunderts. Bis heute haben die Werke des Belgiers nichts an Sprengkraft verloren: „Die alte Frage: ‚Wer sind wir?‘ findet in der Welt\, in der wir leben müssen\, eine enttäuschende Antwort“ (René Magritte). Mit WHERE ARE WE NOW? meldet sich die Compagnie Luna nach fast zweijähriger Schaffenspause zurück. Ausgehend von dem Gemälde „Lovers“ – fotografisch ins Heute übertragen – entwirft das Team rund um Regisseur Josef Maria Krasanovsky in einer sechswöchigen Stückentwicklung einen Trip durch die phantastische Welt Magrittes: Sprachakrobatik\, greller Kitsch\, verhüllte Köpfe\, Werbesujets\, verdrehte Proportionen\, Wolken\, Fantômas… Mit szenischen Bildern und treibenden Beats stellt WHERE ARE WE NOW? Magrittes Fragen erneut: Wer sind wir? Wo sind wir? Und vor allem – was sollen wir tun? Eine theatrale – manchmal auch unernste – Gegenwartsbestandsaufnahme. \nEs spielen: Ambra Berger\, Patrick Jurowski\, Karin Lischka\, Herwig Ofner und Lisa Schrammel Inszenierung und Konzeption: Josef Maria Krasanovsky Ausstattung: Julia Rommel Artwork: Bernd Ertl Musik: Michael Naphegyi Regieassistenz: Carina Hofbauer-Hofmann Dramaturgische Beratung: Gernot Plass Produktionsleitung: Andrea Streit Produktionsassistenz: Pia Goldschmidt Hospitanz: Simon Brader\, Alina Heitzmann\, Vera Skala Licht: Hans Egger \n
URL:https://www.strawanzerin.at/termin/where-are-we-now/
LOCATION:Österreich
CATEGORIES:ab 7,Deutsch,Theater/Kabarett
END:VEVENT
END:VCALENDAR